BEGIN:VCALENDAR
VERSION:2.0
PRODID:-//hacksw/handcal//NONSGML v1.0//EN
CALSCALE:GREGORIAN
BEGIN:VTIMEZONE
TZID:Europe/Berlin
X-LIC-LOCATION:Europe/Berlin
BEGIN:DAYLIGHT
TZOFFSETFROM:+0100
TZOFFSETTO:+0200
TZNAME:CEST
DTSTART:19700329T020000
RRULE:FREQ=YEARLY;BYDAY=-1SU;BYMONTH=3
END:DAYLIGHT
BEGIN:STANDARD
TZOFFSETFROM:+0200
TZOFFSETTO:+0100
TZNAME:CET
DTSTART:19701025T030000
RRULE:FREQ=YEARLY;BYDAY=-1SU;BYMONTH=10
END:STANDARD
END:VTIMEZONE
BEGIN:VEVENT
DTEND;TZID=Europe/Berlin:20260611T170000
UID:69eb60616062b
DTSTAMP:20260424T142153
LOCATION:Bakumer Str. 2
DESCRIPTION:Mit dieser Düsenkraft auf dem Rücken durchbrichst du bestimmt die Schallmauer wie Felix Baumgartner 2012. Wir bauen unsere eigene Maschine zum Durchstarten.
URL;VALUE=URI:https://www.unser-ferienprogramm.de/LJT/veranstaltung.php?id=297888
SUMMARY:Jetpack für Superhelden mit Sabine 
DTSTART;TZID=Europe/Berlin:20260611T150000
END:VEVENT

END:VCALENDAR
