BEGIN:VCALENDAR
VERSION:2.0
PRODID:-//hacksw/handcal//NONSGML v1.0//EN
CALSCALE:GREGORIAN
BEGIN:VTIMEZONE
TZID:Europe/Berlin
X-LIC-LOCATION:Europe/Berlin
BEGIN:DAYLIGHT
TZOFFSETFROM:+0100
TZOFFSETTO:+0200
TZNAME:CEST
DTSTART:19700329T020000
RRULE:FREQ=YEARLY;BYDAY=-1SU;BYMONTH=3
END:DAYLIGHT
BEGIN:STANDARD
TZOFFSETFROM:+0200
TZOFFSETTO:+0100
TZNAME:CET
DTSTART:19701025T030000
RRULE:FREQ=YEARLY;BYDAY=-1SU;BYMONTH=10
END:STANDARD
END:VTIMEZONE
BEGIN:VEVENT
DTEND;TZID=Europe/Berlin:20260602T180000
UID:69eb606290691
DTSTAMP:20260424T142154
LOCATION:Bakumer Str. 2
DESCRIPTION:wir malen die Holzkerzenständer richtig leuchtend bunt an. Gerne kannst du auch noch mit anderem Material aus der Werkstatt alles weiter aufpeppen.
URL;VALUE=URI:https://www.unser-ferienprogramm.de/LJT/veranstaltung.php?id=297885
SUMMARY:Bunte Kerzenständer aus Holz mit Sabine 
DTSTART;TZID=Europe/Berlin:20260602T160000
END:VEVENT

END:VCALENDAR
