BEGIN:VCALENDAR
VERSION:2.0
PRODID:-//hacksw/handcal//NONSGML v1.0//EN
CALSCALE:GREGORIAN
BEGIN:VTIMEZONE
TZID:Europe/Berlin
X-LIC-LOCATION:Europe/Berlin
BEGIN:DAYLIGHT
TZOFFSETFROM:+0100
TZOFFSETTO:+0200
TZNAME:CEST
DTSTART:19700329T020000
RRULE:FREQ=YEARLY;BYDAY=-1SU;BYMONTH=3
END:DAYLIGHT
BEGIN:STANDARD
TZOFFSETFROM:+0200
TZOFFSETTO:+0100
TZNAME:CET
DTSTART:19701025T030000
RRULE:FREQ=YEARLY;BYDAY=-1SU;BYMONTH=10
END:STANDARD
END:VTIMEZONE
BEGIN:VEVENT
DTEND;TZID=Europe/Berlin:20260519T180000
UID:69eb62513406d
DTSTAMP:20260424T143009
LOCATION:Bakumer Str. 2
DESCRIPTION:Aus übrig gebliebenen Holzresten aus unserer Holzwerkstatt( zu schade Zum Entsorgen)\, alten Schrauben\, Verpackungsmüll basteln wir diese tollen Tikimasken. In Hawaii und Polinesien sollen sie die Bewohner schützen und böse Geister fernhalten.
URL;VALUE=URI:https://www.unser-ferienprogramm.de/LJT/veranstaltung.php?id=297877
SUMMARY:Gruselige Masken - Wandschmuck mit Sabine 
DTSTART;TZID=Europe/Berlin:20260519T160000
END:VEVENT

END:VCALENDAR
