BEGIN:VCALENDAR
VERSION:2.0
PRODID:-//hacksw/handcal//NONSGML v1.0//EN
CALSCALE:GREGORIAN
BEGIN:VTIMEZONE
TZID:Europe/Berlin
X-LIC-LOCATION:Europe/Berlin
BEGIN:DAYLIGHT
TZOFFSETFROM:+0100
TZOFFSETTO:+0200
TZNAME:CEST
DTSTART:19700329T020000
RRULE:FREQ=YEARLY;BYDAY=-1SU;BYMONTH=3
END:DAYLIGHT
BEGIN:STANDARD
TZOFFSETFROM:+0200
TZOFFSETTO:+0100
TZNAME:CET
DTSTART:19701025T030000
RRULE:FREQ=YEARLY;BYDAY=-1SU;BYMONTH=10
END:STANDARD
END:VTIMEZONE
BEGIN:VEVENT
DTEND;TZID=Europe/Berlin:20240727T170000
UID:69ea5d224dcf0
DTSTAMP:20260423T195546
LOCATION:Zur hohen Heide in Dingden
DESCRIPTION:Zuerst zeigt euch der Fluglehrer\, warum und wie Flugzeuge fliegen. \r\nDann übt ihr das Steuern eines Fliegers am PC-Flugsimulator.\r\nFlugmodelle werden von euch zusammen mit einem Fluglehrer mit zwei Fernsteuerung geflogen.\r\nMit unseren Wurf-Gleitern und Wasser-Raketen könnt ihr euch auf unserem großen Flugplatz austoben..\r\n\r\nMittags wird gegrillt\, auch zu Trinken steht bereit.
URL;VALUE=URI:https://www.unser-ferienprogramm.de/Hamminkeln/veranstaltung.php?id=207237
SUMMARY:Modell-Fliegen beim FMSV-Dingden
DTSTART;TZID=Europe/Berlin:20240727T100000
END:VEVENT

END:VCALENDAR
