BEGIN:VCALENDAR
VERSION:2.0
PRODID:-//hacksw/handcal//NONSGML v1.0//EN
CALSCALE:GREGORIAN
BEGIN:VTIMEZONE
TZID:Europe/Berlin
X-LIC-LOCATION:Europe/Berlin
BEGIN:DAYLIGHT
TZOFFSETFROM:+0100
TZOFFSETTO:+0200
TZNAME:CEST
DTSTART:19700329T020000
RRULE:FREQ=YEARLY;BYDAY=-1SU;BYMONTH=3
END:DAYLIGHT
BEGIN:STANDARD
TZOFFSETFROM:+0200
TZOFFSETTO:+0100
TZNAME:CET
DTSTART:19701025T030000
RRULE:FREQ=YEARLY;BYDAY=-1SU;BYMONTH=10
END:STANDARD
END:VTIMEZONE
BEGIN:VEVENT
DTEND;TZID=Europe/Berlin:20240712T120000
UID:69ea5d72afca0
DTSTAMP:20260423T195706
LOCATION:Stadtbücherei Hamminkeln
DESCRIPTION:Wir legen die Veranstaltung "Geheimnisvolles Wasser" neu auf: \r\nZunächst erfahren die Kinder etwas über die Eigenschaften von Wasser und anschließend dürfen sie selber mit verschiedenen Materialien experimentieren.\r\n\r\n\r\nEin Nachmittag für Kinder im Grundschulalter. \r\nDie Plätze sind begrenzt\, um Anmeldung wird gebeten!\r\n\r\n
URL;VALUE=URI:https://www.unser-ferienprogramm.de/Hamminkeln/veranstaltung.php?id=200750
SUMMARY:Geheimnisvolles Wasser - EntdeckerKids in der Bücherei
DTSTART;TZID=Europe/Berlin:20240712T100000
END:VEVENT

END:VCALENDAR
