BEGIN:VCALENDAR
VERSION:2.0
PRODID:-//hacksw/handcal//NONSGML v1.0//EN
CALSCALE:GREGORIAN
BEGIN:VTIMEZONE
TZID:Europe/Berlin
X-LIC-LOCATION:Europe/Berlin
BEGIN:DAYLIGHT
TZOFFSETFROM:+0100
TZOFFSETTO:+0200
TZNAME:CEST
DTSTART:19700329T020000
RRULE:FREQ=YEARLY;BYDAY=-1SU;BYMONTH=3
END:DAYLIGHT
BEGIN:STANDARD
TZOFFSETFROM:+0200
TZOFFSETTO:+0100
TZNAME:CET
DTSTART:19701025T030000
RRULE:FREQ=YEARLY;BYDAY=-1SU;BYMONTH=10
END:STANDARD
END:VTIMEZONE
BEGIN:VEVENT
DTEND;TZID=Europe/Berlin:20240710T170000
UID:69ea5d2e8be46
DTSTAMP:20260423T195558
LOCATION:Stadtbücherei Hamminkeln\, Diersfordter Straße 32
DESCRIPTION:Hier ist jede/r richtig\, die/der gerne schreibt und liest und selber kreativ werden will. Bring Papier und Stifte mit oder gern auch deinen Laptop oder dein Tablet. \r\nDie Schreibwerkstatt wird geleitet von Gerlis Zillgens. Sie ist bekannte Kinder- und Jugendbuchautorin und gibt seit vielen Jahren Schreibworkshops für Kinder\, Jugendliche und Erwachsene. \r\n
URL;VALUE=URI:https://www.unser-ferienprogramm.de/Hamminkeln/veranstaltung.php?id=200744
SUMMARY:Schreibwerkstatt mit Gerlis Zillgens
DTSTART;TZID=Europe/Berlin:20240710T140000
END:VEVENT

END:VCALENDAR
