BEGIN:VCALENDAR
VERSION:2.0
PRODID:-//hacksw/handcal//NONSGML v1.0//EN
CALSCALE:GREGORIAN
BEGIN:VTIMEZONE
TZID:Europe/Berlin
X-LIC-LOCATION:Europe/Berlin
BEGIN:DAYLIGHT
TZOFFSETFROM:+0100
TZOFFSETTO:+0200
TZNAME:CEST
DTSTART:19700329T020000
RRULE:FREQ=YEARLY;BYDAY=-1SU;BYMONTH=3
END:DAYLIGHT
BEGIN:STANDARD
TZOFFSETFROM:+0200
TZOFFSETTO:+0100
TZNAME:CET
DTSTART:19701025T030000
RRULE:FREQ=YEARLY;BYDAY=-1SU;BYMONTH=10
END:STANDARD
END:VTIMEZONE
BEGIN:VEVENT
DTEND;TZID=Europe/Berlin:20240708T170000
UID:69ea5f4d4a8da
DTSTAMP:20260423T200501
LOCATION:
DESCRIPTION:In Wilmas Kindergarten gibt es eine neue Bande - und Wilma möchte dazugehören. Um in dieser Bande aufgenommen zu werden\, erfindet sie wilde Superheldengeschichten über ihren Hund Bo. Was aber passiert am Tag der Aufnahmeprüfung? Eine liebevolle Geschichte über Freundschaft. \r\n\r\nMalen und Theater!\r\nDieses Mal dürfen die Kinder selber aktiv werden und die Bilder der Geschichte ausmalen. \r\nFür Kinder ab 4 Jahren. 
URL;VALUE=URI:https://www.unser-ferienprogramm.de/Hamminkeln/veranstaltung.php?id=200740
SUMMARY:Wilma und die Kindergartenbande
DTSTART;TZID=Europe/Berlin:20240708T160000
END:VEVENT

END:VCALENDAR
