BEGIN:VCALENDAR
VERSION:2.0
PRODID:-//hacksw/handcal//NONSGML v1.0//EN
CALSCALE:GREGORIAN
BEGIN:VTIMEZONE
TZID:Europe/Berlin
X-LIC-LOCATION:Europe/Berlin
BEGIN:DAYLIGHT
TZOFFSETFROM:+0100
TZOFFSETTO:+0200
TZNAME:CEST
DTSTART:19700329T020000
RRULE:FREQ=YEARLY;BYDAY=-1SU;BYMONTH=3
END:DAYLIGHT
BEGIN:STANDARD
TZOFFSETFROM:+0200
TZOFFSETTO:+0100
TZNAME:CET
DTSTART:19701025T030000
RRULE:FREQ=YEARLY;BYDAY=-1SU;BYMONTH=10
END:STANDARD
END:VTIMEZONE
BEGIN:VEVENT
DTEND;TZID=Europe/Berlin:20260418T163000
UID:69e768c3589b8
DTSTAMP:20260421T140835
LOCATION:FBZ Grille
DESCRIPTION:Liebe auf den zweiten Stuhl\r\nein Clownstheaterstück\r\n\r\nEin Clownstheater mit 11 Clowns ist kaum zu bändigen. Auch in diesem Theaterstück haben die Clowns einige Schwierigkeiten zu überwinden.\r\n\r\nUnter der Regie von Bruno Zühlke und Annika Evers entstand während der Aufbaufortbildung des Jojo-Zentrums in Hamburg durch improvisatorische Techniken\, Objektarbeit und Spielfreude das Programm "Liebe auf den zweiten Stuhl".\r\n\r\nIn Solo-\, Duo- und Gruppenformationen zeigen die Clowns mit Musik und Slapstick in all ihrer Absurdität eine Geschichte in Höhen und Tiefen\, mal laut und mal leise mit Gefühlvoller Authentizität.\r\n\r\nFreut Euch darauf\, „Herzblicke“ auf die kleinen und großen Momente menschlichen Daseins zu werfen. Was das alles mit einem Stuhl zu tun hat\, könnt Ihr am 18.04. im FBZ Grille erleben.
URL;VALUE=URI:https://www.unser-ferienprogramm.de/Gifhorn/veranstaltung.php?id=310694
SUMMARY:Clownstheater "Liebe auf den zweiten Stuhl"
DTSTART;TZID=Europe/Berlin:20260418T150000
END:VEVENT

END:VCALENDAR
