BEGIN:VCALENDAR
VERSION:2.0
PRODID:-//hacksw/handcal//NONSGML v1.0//EN
CALSCALE:GREGORIAN
BEGIN:VTIMEZONE
TZID:Europe/Berlin
X-LIC-LOCATION:Europe/Berlin
BEGIN:DAYLIGHT
TZOFFSETFROM:+0100
TZOFFSETTO:+0200
TZNAME:CEST
DTSTART:19700329T020000
RRULE:FREQ=YEARLY;BYDAY=-1SU;BYMONTH=3
END:DAYLIGHT
BEGIN:STANDARD
TZOFFSETFROM:+0200
TZOFFSETTO:+0100
TZNAME:CET
DTSTART:19701025T030000
RRULE:FREQ=YEARLY;BYDAY=-1SU;BYMONTH=10
END:STANDARD
END:VTIMEZONE
BEGIN:VEVENT
DTEND;TZID=Europe/Berlin:20260528T170000
UID:69e754acb470b
DTSTAMP:20260421T124252
LOCATION:Kita-Süd
DESCRIPTION:Großer Tag der Nachbarn-Flohmarkt am 28.5.2026 – Kommt vorbei und unterstützt unseren Ausflug!\r\n\r\nAm 28. Mai 2026 findet\, von 15:00 Uhr bis 17:00 Uhr\, unser bunter Flohmarkt\, zusammen mit allen Nachbarn\, statt! \r\nFreut euch auf tolle Stände\, viele Schnäppchen!\r\nEs wird einen besonderen Kuchen- und Kaffeeverkauf geben. \r\nDer Erlös daraus hilft\, unseren Kitaausflug in den Familienpark Sottrum zu finanzieren.  \r\n\r\nAuch an unserem Kita-Verkaufstisch gibt es einiges zu entdecken – die Einnahmen kommen ebenfalls den Kindern und dem Ausflug zugute.\r\nAktion:\r\nSpenden sind herzlich willkommen – die Kinder würden sich riesig freuen!\r\nWir freuen uns auf viele Besucherinnen und Besucher\, einen schönen Tag und eure Unterstützung!\r\n\r\nDas Kita-Team\r\n\r\nStandanmeldung\r\n•\tDer Flohmarkt findet auf dem Außengelände statt und dies nur bei gutem Wetter.\r\n•\tPro Stand 3m\, Tische werden nicht gestellt und müssen mitgebracht werden. Auch Kinder sind gerne eingeladen Dinge zu verkaufen. \r\n•\tDie Gebühr pro Stand beträgt 1x Kuchen\r\n(Sind genügend Kuchen zusammengekommen\, berechnen wir 5€)\r\n
URL;VALUE=URI:https://www.unser-ferienprogramm.de/Gifhorn/veranstaltung.php?id=309618
SUMMARY:Großer "Tag der Nachbarn- Flohmarkt"
DTSTART;TZID=Europe/Berlin:20260528T150000
END:VEVENT

END:VCALENDAR
