BEGIN:VCALENDAR
VERSION:2.0
PRODID:-//hacksw/handcal//NONSGML v1.0//EN
CALSCALE:GREGORIAN
BEGIN:VTIMEZONE
TZID:Europe/Berlin
X-LIC-LOCATION:Europe/Berlin
BEGIN:DAYLIGHT
TZOFFSETFROM:+0100
TZOFFSETTO:+0200
TZNAME:CEST
DTSTART:19700329T020000
RRULE:FREQ=YEARLY;BYDAY=-1SU;BYMONTH=3
END:DAYLIGHT
BEGIN:STANDARD
TZOFFSETFROM:+0200
TZOFFSETTO:+0100
TZNAME:CET
DTSTART:19701025T030000
RRULE:FREQ=YEARLY;BYDAY=-1SU;BYMONTH=10
END:STANDARD
END:VTIMEZONE
BEGIN:VEVENT
DTEND;TZID=Europe/Berlin:20260513T000000
UID:69e72ee45b57c
DTSTAMP:20260421T100140
LOCATION:Stadthalle Gifhorn
DESCRIPTION:Ein Song für Gifhorn\r\n\r\nGesucht wird ein Song in deutscher Sprache\, der einen erkennbaren Bezug zu Gifhorn hat und die Besonderheiten unserer Stadt musikalisch einfängt. Dabei sind Ihrer Kreativität keine Grenzen gesetzt: Ob Pop\, Rock\, Jazz\, Hip-Hop\, Metal\, Elektro\, Volkslied oder ein ganz eigenes Genre – erlaubt ist\, was überzeugt und berührt. Entscheidend ist nicht der Stil\, sondern die Idee und die persönliche Interpretation.\r\n\r\nDamit sich die Identität Gifhorns im Lied wiederfindet\, sollen mindestens einige der folgenden Begriffe im Song vorkommen: \r\n\r\nGifhorn\r\nMühlenstadt\r\nAller und/oder Ise\r\nSchlosssee\r\nHeide. \r\n\r\nWie diese Worte eingebunden werden\, bleibt vollständig Ihnen überlassen – poetisch\, kraftvoll\, erzählerisch oder ganz subtil. Ob als Einzelkünstlerin oder Einzelkünstler\, Band oder gemeinsames Projekt: Nutzen Sie die Gelegenheit\, Ihrer musikalischen Stimme Ausdruck zu verleihen und Teil eines besonderen Stadtprojekts zu werden.
URL;VALUE=URI:https://www.unser-ferienprogramm.de/Gifhorn/veranstaltung.php?id=304574
SUMMARY:Ein Song für Gifhorn
DTSTART;TZID=Europe/Berlin:20260513T000000
END:VEVENT

END:VCALENDAR
