BEGIN:VCALENDAR
VERSION:2.0
PRODID:-//hacksw/handcal//NONSGML v1.0//EN
CALSCALE:GREGORIAN
BEGIN:VTIMEZONE
TZID:Europe/Berlin
X-LIC-LOCATION:Europe/Berlin
BEGIN:DAYLIGHT
TZOFFSETFROM:+0100
TZOFFSETTO:+0200
TZNAME:CEST
DTSTART:19700329T020000
RRULE:FREQ=YEARLY;BYDAY=-1SU;BYMONTH=3
END:DAYLIGHT
BEGIN:STANDARD
TZOFFSETFROM:+0200
TZOFFSETTO:+0100
TZNAME:CET
DTSTART:19701025T030000
RRULE:FREQ=YEARLY;BYDAY=-1SU;BYMONTH=10
END:STANDARD
END:VTIMEZONE
BEGIN:VEVENT
DTEND;TZID=Europe/Berlin:20260528T163000
UID:69e73b5df039f
DTSTAMP:20260421T105453
LOCATION:Vorplatz Sportzentrum Süd
DESCRIPTION:Am "Tag der Nachbarschaft"  bietet das Präventions-Team der Polizeiinspektion Gifhorn für alle Bürgerinnen und Bürger eine kostenlose Fahrradregistrierung an. \r\n\r\nDiese findet am 28.05.2026\, in der Zeit von 14 Uhr bis 17 Uhr auf dem neu gestalteten Vorplatz des Sportzentrums Süd statt. \r\n\r\nMehr Informationen zum Schutz vor Fahrraddiebstahl und was zu tun ist\, wenn das Rad doch abhandenkommt bekommt ihr auch.
URL;VALUE=URI:https://www.unser-ferienprogramm.de/Gifhorn/veranstaltung.php?id=303559
SUMMARY:Kostenlose Fahrradregistrierung
DTSTART;TZID=Europe/Berlin:20260528T140000
END:VEVENT

END:VCALENDAR
