BEGIN:VCALENDAR
VERSION:2.0
PRODID:-//hacksw/handcal//NONSGML v1.0//EN
CALSCALE:GREGORIAN
BEGIN:VTIMEZONE
TZID:Europe/Berlin
X-LIC-LOCATION:Europe/Berlin
BEGIN:DAYLIGHT
TZOFFSETFROM:+0100
TZOFFSETTO:+0200
TZNAME:CEST
DTSTART:19700329T020000
RRULE:FREQ=YEARLY;BYDAY=-1SU;BYMONTH=3
END:DAYLIGHT
BEGIN:STANDARD
TZOFFSETFROM:+0200
TZOFFSETTO:+0100
TZNAME:CET
DTSTART:19701025T030000
RRULE:FREQ=YEARLY;BYDAY=-1SU;BYMONTH=10
END:STANDARD
END:VTIMEZONE
BEGIN:VEVENT
DTEND;TZID=Europe/Berlin:20260706T160000
UID:69e72f9465f2e
DTSTAMP:20260421T100436
LOCATION:Allerwelle
DESCRIPTION:Draußen sein\, aktiv sein\, Spaß haben. Toben\, was das Zeug hält. Neue Trendsportarten ausprobieren und alte Spiele neu entdecken: Diese Woche steckt bis zum Rand voller Erlebnisse neue Leute kennenlernen\, andere Kulturen hautnah erfahren!\r\n\r\nDamit sich die Gruppe richtig gut kennenlernen kann und das Gruppengefühl gestärkt wird\, gibt es jeden Tag Aktivitäten in Workshops. ( Sportangeboten\, gesunde Ernährung\, Kanu fahren\, Malkurse\, Fußball\, SUP\, Slackline\, Boxen\, Sportstation und und und...).\r\n\r\nFreut euch auf eine sportliche und kreative Ferienwoche mit anderen Kindern. Erlebt aufregende und abwechslungsreiche Tage. Der Fokus liegt hier ganz auf den Themen Sport\, gesunde Ernährung\, Kreativität\, Sprache und die Ferien genießen.\r\n\r\n
URL;VALUE=URI:https://www.unser-ferienprogramm.de/Gifhorn/veranstaltung.php?id=301659
SUMMARY:Ferien-/Sprachcamp " Kinder aus Aller-Welten" in der Allerwelle
DTSTART;TZID=Europe/Berlin:20260706T090000
END:VEVENT


BEGIN:VEVENT
DTEND;TZID=Europe/Berlin:20260707T160000
UID:69e72f9465f621
DTSTAMP:20260421T100436
LOCATION:Allerwelle
DESCRIPTION:Draußen sein\, aktiv sein\, Spaß haben. Toben\, was das Zeug hält. Neue Trendsportarten ausprobieren und alte Spiele neu entdecken: Diese Woche steckt bis zum Rand voller Erlebnisse neue Leute kennenlernen\, andere Kulturen hautnah erfahren!\r\n\r\nDamit sich die Gruppe richtig gut kennenlernen kann und das Gruppengefühl gestärkt wird\, gibt es jeden Tag Aktivitäten in Workshops. ( Sportangeboten\, gesunde Ernährung\, Kanu fahren\, Malkurse\, Fußball\, SUP\, Slackline\, Boxen\, Sportstation und und und...).\r\n\r\nFreut euch auf eine sportliche und kreative Ferienwoche mit anderen Kindern. Erlebt aufregende und abwechslungsreiche Tage. Der Fokus liegt hier ganz auf den Themen Sport\, gesunde Ernährung\, Kreativität\, Sprache und die Ferien genießen.\r\n\r\n
URL;VALUE=URI:https://www.unser-ferienprogramm.de/Gifhorn/veranstaltung.php?id=301659
SUMMARY:Ferien-/Sprachcamp " Kinder aus Aller-Welten" in der Allerwelle
DTSTART;TZID=Europe/Berlin:20260707T090000
END:VEVENT


BEGIN:VEVENT
DTEND;TZID=Europe/Berlin:20260708T160000
UID:69e72f9465f702
DTSTAMP:20260421T100436
LOCATION:Allerwelle
DESCRIPTION:Draußen sein\, aktiv sein\, Spaß haben. Toben\, was das Zeug hält. Neue Trendsportarten ausprobieren und alte Spiele neu entdecken: Diese Woche steckt bis zum Rand voller Erlebnisse neue Leute kennenlernen\, andere Kulturen hautnah erfahren!\r\n\r\nDamit sich die Gruppe richtig gut kennenlernen kann und das Gruppengefühl gestärkt wird\, gibt es jeden Tag Aktivitäten in Workshops. ( Sportangeboten\, gesunde Ernährung\, Kanu fahren\, Malkurse\, Fußball\, SUP\, Slackline\, Boxen\, Sportstation und und und...).\r\n\r\nFreut euch auf eine sportliche und kreative Ferienwoche mit anderen Kindern. Erlebt aufregende und abwechslungsreiche Tage. Der Fokus liegt hier ganz auf den Themen Sport\, gesunde Ernährung\, Kreativität\, Sprache und die Ferien genießen.\r\n\r\n
URL;VALUE=URI:https://www.unser-ferienprogramm.de/Gifhorn/veranstaltung.php?id=301659
SUMMARY:Ferien-/Sprachcamp " Kinder aus Aller-Welten" in der Allerwelle
DTSTART;TZID=Europe/Berlin:20260708T090000
END:VEVENT


BEGIN:VEVENT
DTEND;TZID=Europe/Berlin:20260709T160000
UID:69e72f9465f7b3
DTSTAMP:20260421T100436
LOCATION:Allerwelle
DESCRIPTION:Draußen sein\, aktiv sein\, Spaß haben. Toben\, was das Zeug hält. Neue Trendsportarten ausprobieren und alte Spiele neu entdecken: Diese Woche steckt bis zum Rand voller Erlebnisse neue Leute kennenlernen\, andere Kulturen hautnah erfahren!\r\n\r\nDamit sich die Gruppe richtig gut kennenlernen kann und das Gruppengefühl gestärkt wird\, gibt es jeden Tag Aktivitäten in Workshops. ( Sportangeboten\, gesunde Ernährung\, Kanu fahren\, Malkurse\, Fußball\, SUP\, Slackline\, Boxen\, Sportstation und und und...).\r\n\r\nFreut euch auf eine sportliche und kreative Ferienwoche mit anderen Kindern. Erlebt aufregende und abwechslungsreiche Tage. Der Fokus liegt hier ganz auf den Themen Sport\, gesunde Ernährung\, Kreativität\, Sprache und die Ferien genießen.\r\n\r\n
URL;VALUE=URI:https://www.unser-ferienprogramm.de/Gifhorn/veranstaltung.php?id=301659
SUMMARY:Ferien-/Sprachcamp " Kinder aus Aller-Welten" in der Allerwelle
DTSTART;TZID=Europe/Berlin:20260709T090000
END:VEVENT


BEGIN:VEVENT
DTEND;TZID=Europe/Berlin:20260710T160000
UID:69e72f9465f854
DTSTAMP:20260421T100436
LOCATION:Allerwelle
DESCRIPTION:Draußen sein\, aktiv sein\, Spaß haben. Toben\, was das Zeug hält. Neue Trendsportarten ausprobieren und alte Spiele neu entdecken: Diese Woche steckt bis zum Rand voller Erlebnisse neue Leute kennenlernen\, andere Kulturen hautnah erfahren!\r\n\r\nDamit sich die Gruppe richtig gut kennenlernen kann und das Gruppengefühl gestärkt wird\, gibt es jeden Tag Aktivitäten in Workshops. ( Sportangeboten\, gesunde Ernährung\, Kanu fahren\, Malkurse\, Fußball\, SUP\, Slackline\, Boxen\, Sportstation und und und...).\r\n\r\nFreut euch auf eine sportliche und kreative Ferienwoche mit anderen Kindern. Erlebt aufregende und abwechslungsreiche Tage. Der Fokus liegt hier ganz auf den Themen Sport\, gesunde Ernährung\, Kreativität\, Sprache und die Ferien genießen.\r\n\r\n
URL;VALUE=URI:https://www.unser-ferienprogramm.de/Gifhorn/veranstaltung.php?id=301659
SUMMARY:Ferien-/Sprachcamp " Kinder aus Aller-Welten" in der Allerwelle
DTSTART;TZID=Europe/Berlin:20260710T090000
END:VEVENT

END:VCALENDAR
