BEGIN:VCALENDAR
VERSION:2.0
PRODID:-//hacksw/handcal//NONSGML v1.0//EN
CALSCALE:GREGORIAN
BEGIN:VTIMEZONE
TZID:Europe/Berlin
X-LIC-LOCATION:Europe/Berlin
BEGIN:DAYLIGHT
TZOFFSETFROM:+0100
TZOFFSETTO:+0200
TZNAME:CEST
DTSTART:19700329T020000
RRULE:FREQ=YEARLY;BYDAY=-1SU;BYMONTH=3
END:DAYLIGHT
BEGIN:STANDARD
TZOFFSETFROM:+0200
TZOFFSETTO:+0100
TZNAME:CET
DTSTART:19701025T030000
RRULE:FREQ=YEARLY;BYDAY=-1SU;BYMONTH=10
END:STANDARD
END:VTIMEZONE
BEGIN:VEVENT
DTEND;TZID=Europe/Berlin:20261129T000000
UID:69e73e671c6f5
DTSTAMP:20260421T110751
LOCATION:Steinweg 4\, Gifhorn
DESCRIPTION:safe.point- Fachberatungsstelle für Kinder und Jugendliche\, die häusliche und oder sexualisierte Gewalt erfahren haben\r\n\r\nWir hören dir zu. Wir stärken dich. Wir sind da.\r\nGewalt hat viele Gesichter – körperlich\, seelisch oder sexualisiert.\r\nManchmal passiert sie durch Menschen\, die man eigentlich gern hat oder denen man vertraut. Doch keine Form von Gewalt ist in Ordnung.\r\n\r\nBei safe.point in Gifhorn findest du einen sicheren Ort\, an dem du ernst genommen wirst.\r\nHier kannst du über das sprechen\, was dich belastet – freiwillig\, anonym und kostenlos.\r\n
URL;VALUE=URI:https://www.unser-ferienprogramm.de/Gifhorn/veranstaltung.php?id=299331
SUMMARY:safe.point- Fachberatungsstelle für Kinder und Jugendliche
DTSTART;TZID=Europe/Berlin:20261129T000000
END:VEVENT

END:VCALENDAR
