BEGIN:VCALENDAR
VERSION:2.0
PRODID:-//hacksw/handcal//NONSGML v1.0//EN
CALSCALE:GREGORIAN
BEGIN:VTIMEZONE
TZID:Europe/Berlin
X-LIC-LOCATION:Europe/Berlin
BEGIN:DAYLIGHT
TZOFFSETFROM:+0100
TZOFFSETTO:+0200
TZNAME:CEST
DTSTART:19700329T020000
RRULE:FREQ=YEARLY;BYDAY=-1SU;BYMONTH=3
END:DAYLIGHT
BEGIN:STANDARD
TZOFFSETFROM:+0200
TZOFFSETTO:+0100
TZNAME:CET
DTSTART:19701025T030000
RRULE:FREQ=YEARLY;BYDAY=-1SU;BYMONTH=10
END:STANDARD
END:VTIMEZONE
BEGIN:VEVENT
DTEND;TZID=Europe/Berlin:20260328T000000
UID:69e769f1c00f0
DTSTAMP:20260421T141337
LOCATION:Hildesheim
DESCRIPTION:Jugendleiter*innen-Ausbildung vom 23.03.-28.03.2026 in Hildesheim für Schüler*innen\, Studis\, Auszubildende und Arbeitnehmer*innen ab 16 Jahren.\r\n\r\nLeute die ehrenamtlich im Verein oder der offenen Jugendarbeit in den Jugendtreffs arbeiten wollen\, alle Betreuer*innen bei Ferienfreizeiten oder von Ferienaktionen vor Ort\, müssen speziell ausgebildet werden. Aufsichtspflicht und Haftung\, Jugendschutzgesetz\, Entwicklungsaufgaben im Jugendalter\, Gruppenpädagogik\, Spielpädagogik usw. sind wichtige Themen\, die alle im Verlauf dieses sechstägigen Lehrgangs angesprochen werden.\r\n\r\nNach Abschluss des Lehrgangs und der Vorlage eines „Erste Hilfe Scheins“\, kann die sog. JuLeiCa\, die Jugendleitercard beim örtlichen Jugendamt beantragt werden.\r\n\r\nWer diese besitzt\, hat manches leichter: Du kannst dann kann als Betreuer*in bei Ferienfreizeiten mitfahren\, kannst Zuschüsse beantragen oder Arbeitsbefreiung für die Jugendarbeit bekommen.\r\n\r\nDamit das alles auch Spaß macht – denn nur wenn Lernen Spaß macht hat man Erfolg -\, haben wir eine Bildungsstätte gemietet\, in der es sich richtig gut aushalten lässt.\r\n\r\nLeistungen:\r\nUnterkunft\, Verpflegung\, Programm und Material
URL;VALUE=URI:https://www.unser-ferienprogramm.de/Gifhorn/veranstaltung.php?id=299325
SUMMARY:JuLeiCa- Jugendgruppenleiter-Ausbildung
DTSTART;TZID=Europe/Berlin:20260322T000000
END:VEVENT

END:VCALENDAR
