BEGIN:VCALENDAR
VERSION:2.0
PRODID:-//hacksw/handcal//NONSGML v1.0//EN
CALSCALE:GREGORIAN
BEGIN:VTIMEZONE
TZID:Europe/Berlin
X-LIC-LOCATION:Europe/Berlin
BEGIN:DAYLIGHT
TZOFFSETFROM:+0100
TZOFFSETTO:+0200
TZNAME:CEST
DTSTART:19700329T020000
RRULE:FREQ=YEARLY;BYDAY=-1SU;BYMONTH=3
END:DAYLIGHT
BEGIN:STANDARD
TZOFFSETFROM:+0200
TZOFFSETTO:+0100
TZNAME:CET
DTSTART:19701025T030000
RRULE:FREQ=YEARLY;BYDAY=-1SU;BYMONTH=10
END:STANDARD
END:VTIMEZONE
BEGIN:VEVENT
DTEND;TZID=Europe/Berlin:20260528T000000
UID:69e73f30df89a
DTSTAMP:20260421T111112
LOCATION:Südstadtcampus
DESCRIPTION:Familien\, Kinder\, Senioren\, verschiedene Nationen - unsere Nachbarschaft ist bunt\, aber kennt eigentlich noch jemand seine Nachbarn? Das kann sich ändern. \r\n\r\nDer Tag der Nachbarschaft ist ein bundesweiter Aktionstag für nachbarschaftliches Miteinander. Seit 2018 ruft die nebenan.de Stiftung dazu auf\, an einem Freitag im Mai kleine und große Aktionen und Feste in der Nachbarschaft zu veranstalten. Eigentlich findet er an einem Freitag statt\, aber damit auch die Ganztags-Schüler mitmachen können\, feiert der Südstadt-Campus am Donnerstag.\r\n\r\nJedes Jahr treffen sich am Aktionstag in ganz Deutschland hunderttausende Menschen\, um ihre Nachbar:innen kennenzulernen\, sich auszutauschen und gemeinsam eine gute Zeit zu verbringen. Der Tag der Nachbarschaft bringt Menschen unabhängig von Herkunft\, Alter\, Religion oder sozialer Zugehörigkeit zusammen und stärkt so nachhaltig den sozialen Zusammenhalt in unserer Gesellschaft. \r\n\r\nWeitere Infos- was an diesem Tag auf dem Südstadtcampus rund um die Grille stattfindet- folgen...\r\n\r\nAb dem 16.März können Sie auch eigene Aktionen in ihrer Nachbarschaft anmelden!  \r\nhttps://www.tagdernachbarschaft.com/ \r\n
URL;VALUE=URI:https://www.unser-ferienprogramm.de/Gifhorn/veranstaltung.php?id=297928
SUMMARY:Tag der Nachbarschaft- Südstadt-Campus
DTSTART;TZID=Europe/Berlin:20260528T000000
END:VEVENT

END:VCALENDAR
