BEGIN:VCALENDAR
VERSION:2.0
PRODID:-//hacksw/handcal//NONSGML v1.0//EN
CALSCALE:GREGORIAN
BEGIN:VTIMEZONE
TZID:Europe/Berlin
X-LIC-LOCATION:Europe/Berlin
BEGIN:DAYLIGHT
TZOFFSETFROM:+0100
TZOFFSETTO:+0200
TZNAME:CEST
DTSTART:19700329T020000
RRULE:FREQ=YEARLY;BYDAY=-1SU;BYMONTH=3
END:DAYLIGHT
BEGIN:STANDARD
TZOFFSETFROM:+0200
TZOFFSETTO:+0100
TZNAME:CET
DTSTART:19701025T030000
RRULE:FREQ=YEARLY;BYDAY=-1SU;BYMONTH=10
END:STANDARD
END:VTIMEZONE
BEGIN:VEVENT
DTEND;TZID=Europe/Berlin:20260721T000000
UID:69e73f11c3c49
DTSTAMP:20260421T111041
LOCATION:Uetze
DESCRIPTION:Nur für Schwimmer/Schwimmerinnen\r\nAls erste Info vorab: Für unsere Teilnehmer stehen 3 Bungalows zur Verfügung\, darum können sich max. 4 Mädchen und max. 8 Jungen anmelden.\r\nDie Jugendförderung der Stadt Gifhorn bietet euch in diesem Sommer eine Ferienfreizeit in unserer Region an. Unser Ziel ist der Irenensee in Uetze\, der Campingplatz bietet uns viele verschiedene Freizeitmöglichkeiten. Beispielsweise gibt es die Bademöglichkeit und SUP fahren ist möglich. Die Unterbringung wird in sehr komfortablen Ferienhäusern sein. Ihr könnt euch selbst über die Gegebenheiten informieren: www.irenensee.de\r\n\r\nAller-Oker-Fuhse-Lachte-Leine-\r\nWir wollen auf verschiedenen Flüssen Kanu fahren\, ob dies möglich ist hängt natürlich von den dann aktuellen Wasserständen ab. Bei schlechtem Wetter werden wir ein abwechslungsreiches Alternativprogramm anbieten.\r\n\r\nWir freuen uns auf euch und auf eine schöne Zeit!\r\nIm Preis sind alle anfallenden Kosten enthalten\, wie Unterkunft\, Vollverpflegung\, Reisekosten und Freizeitaktivitäten.\r\n\r\nVor der Freizeit wird ein Infoabend für die Teilnehmerinnen und Teilnehmer und Eltern der Freizeit stattfinden.
URL;VALUE=URI:https://www.unser-ferienprogramm.de/Gifhorn/veranstaltung.php?id=296515
SUMMARY: Kanu Freizeit am Irenensee in Uetze (Teilnehmer Jungs)
DTSTART;TZID=Europe/Berlin:20260714T000000
END:VEVENT

END:VCALENDAR
