BEGIN:VCALENDAR
VERSION:2.0
PRODID:-//hacksw/handcal//NONSGML v1.0//EN
CALSCALE:GREGORIAN
BEGIN:VTIMEZONE
TZID:Europe/Berlin
X-LIC-LOCATION:Europe/Berlin
BEGIN:DAYLIGHT
TZOFFSETFROM:+0100
TZOFFSETTO:+0200
TZNAME:CEST
DTSTART:19700329T020000
RRULE:FREQ=YEARLY;BYDAY=-1SU;BYMONTH=3
END:DAYLIGHT
BEGIN:STANDARD
TZOFFSETFROM:+0200
TZOFFSETTO:+0100
TZNAME:CET
DTSTART:19701025T030000
RRULE:FREQ=YEARLY;BYDAY=-1SU;BYMONTH=10
END:STANDARD
END:VTIMEZONE
BEGIN:VEVENT
DTEND;TZID=Europe/Berlin:20261101T000000
UID:69e73b5a47aba
DTSTAMP:20260421T105450
LOCATION:Winkeler Straße 1
DESCRIPTION:Die Schule ist bald vorbei und du weißt noch nicht wie es für Dich weitergeht?\r\nDu bist arbeitssuchend und hast noch keine Stelle gefunden?\r\nSchule war nicht dein Ding und du hast keinen Schulabschluss?\r\n\r\nIn der persönlichen Beratung der Jugendberufsagentur erarbeitet ihr gemeinsam einen Plan\, wie du eine passende Ausbildung oder Arbeit finden kannst.
URL;VALUE=URI:https://www.unser-ferienprogramm.de/Gifhorn/veranstaltung.php?id=292810
SUMMARY:Jugendberufsagentur
DTSTART;TZID=Europe/Berlin:20261101T000000
END:VEVENT

END:VCALENDAR
