BEGIN:VCALENDAR
VERSION:2.0
PRODID:-//hacksw/handcal//NONSGML v1.0//EN
CALSCALE:GREGORIAN
BEGIN:VTIMEZONE
TZID:Europe/Berlin
X-LIC-LOCATION:Europe/Berlin
BEGIN:DAYLIGHT
TZOFFSETFROM:+0100
TZOFFSETTO:+0200
TZNAME:CEST
DTSTART:19700329T020000
RRULE:FREQ=YEARLY;BYDAY=-1SU;BYMONTH=3
END:DAYLIGHT
BEGIN:STANDARD
TZOFFSETFROM:+0200
TZOFFSETTO:+0100
TZNAME:CET
DTSTART:19701025T030000
RRULE:FREQ=YEARLY;BYDAY=-1SU;BYMONTH=10
END:STANDARD
END:VTIMEZONE
BEGIN:VEVENT
DTEND;TZID=Europe/Berlin:20261223T000000
UID:69e75464df937
DTSTAMP:20260421T124140
LOCATION:FBZ Grille
DESCRIPTION:Bücher- und Stöberzelle auf der Terrasse der Grille!\r\n\r\nAb sofort können Bücher unkompliziert ausgeliehen werden\, man kann gelesene Bücher einstellen und sich immer wieder mit neuem Lesestoff versorgen.\r\n\r\nWir danken der Martin-Luther-Gemeinde für die Spende der Telefonzelle und den Ganztagsschülern der Fritz-Reuter-Realschule für die Renovierung.\r\n\r\nNach der Einweihung zum "TAG DER NACHBARN" am Donnerstag\, den 22.05.2025\, ist die Bücher- und Stöberzelle täglich während der Öffnungszeiten von 10:00 - 18:00 Uhr für jeden frei zugänglich.\r\n\r\nWir haben auch Spiele und Kinderbücher!
URL;VALUE=URI:https://www.unser-ferienprogramm.de/Gifhorn/veranstaltung.php?id=268964
SUMMARY:Bücher- & Stöberzelle
DTSTART;TZID=Europe/Berlin:20261223T000000
END:VEVENT

END:VCALENDAR
