BEGIN:VCALENDAR
VERSION:2.0
PRODID:-//hacksw/handcal//NONSGML v1.0//EN
CALSCALE:GREGORIAN
BEGIN:VTIMEZONE
TZID:Europe/Berlin
X-LIC-LOCATION:Europe/Berlin
BEGIN:DAYLIGHT
TZOFFSETFROM:+0100
TZOFFSETTO:+0200
TZNAME:CEST
DTSTART:19700329T020000
RRULE:FREQ=YEARLY;BYDAY=-1SU;BYMONTH=3
END:DAYLIGHT
BEGIN:STANDARD
TZOFFSETFROM:+0200
TZOFFSETTO:+0100
TZNAME:CET
DTSTART:19701025T030000
RRULE:FREQ=YEARLY;BYDAY=-1SU;BYMONTH=10
END:STANDARD
END:VTIMEZONE
BEGIN:VEVENT
DTEND;TZID=Europe/Berlin:20260509T170000
UID:69e7549e15196
DTSTAMP:20260421T124238
LOCATION:Dirt Bike Park Gamsen\, Bruno-Kuhn-Str. 23-27
DESCRIPTION:Save the date! Am 09 Mai geht es richtig ab auf unserer Dirt-Bike-Strecke in Gamsen! Also schon mal Helme putzen und die passenden Outfits parat legen!
URL;VALUE=URI:https://www.unser-ferienprogramm.de/Gifhorn/veranstaltung.php?id=252886
SUMMARY:Dirt Bike Jam
DTSTART;TZID=Europe/Berlin:20260509T130000
END:VEVENT

END:VCALENDAR
