BEGIN:VCALENDAR
VERSION:2.0
PRODID:-//hacksw/handcal//NONSGML v1.0//EN
CALSCALE:GREGORIAN
BEGIN:VTIMEZONE
TZID:Europe/Berlin
X-LIC-LOCATION:Europe/Berlin
BEGIN:DAYLIGHT
TZOFFSETFROM:+0100
TZOFFSETTO:+0200
TZNAME:CEST
DTSTART:19700329T020000
RRULE:FREQ=YEARLY;BYDAY=-1SU;BYMONTH=3
END:DAYLIGHT
BEGIN:STANDARD
TZOFFSETFROM:+0200
TZOFFSETTO:+0100
TZNAME:CET
DTSTART:19701025T030000
RRULE:FREQ=YEARLY;BYDAY=-1SU;BYMONTH=10
END:STANDARD
END:VTIMEZONE
BEGIN:VEVENT
DTEND;TZID=Europe/Berlin:20261231T000000
UID:69e7549ec7ce8
DTSTAMP:20260421T124238
LOCATION:Bruno-Kuhn-Straße- Am Sportplatz
DESCRIPTION:Der Dirt Bike Park in Gifhorn/Gamsen ist eine moderne und vielseitige Anlage\, die sich ideal für Dirt Bike-Fans und Mountainbiker eignet. Mit verschiedenen Strecken und Hindernissen bietet der Park sowohl Anfängern als auch erfahrenen Fahrern die Möglichkeit\, ihre Fähigkeiten zu präsentieren\, zu verbessern und Spaß zu haben. Zudem ist der Dirt Bike Park ein beliebter Treffpunkt für die lokale Community\, die die Anlage neben der Nutzung auch pflegt und instand setzt.\r\nOb für entspannte Fahrten oder herausfordernde Sprünge – der Dirt Bike Park in Gifhorn/Gamsen ist ein attraktives Ziel für alle\, die den Nervenkitzel des Dirt Biking (mit-) erleben möchten. \r\n\r\nIm Juli 2024 wurde die Dirt Bike Strecke eröffnet.\r\n\r\n\r\n\r\n
URL;VALUE=URI:https://www.unser-ferienprogramm.de/Gifhorn/veranstaltung.php?id=250149
SUMMARY:Dirt Bike Park
DTSTART;TZID=Europe/Berlin:20261231T000000
END:VEVENT

END:VCALENDAR
