BEGIN:VCALENDAR
VERSION:2.0
PRODID:-//hacksw/handcal//NONSGML v1.0//EN
CALSCALE:GREGORIAN
BEGIN:VTIMEZONE
TZID:Europe/Berlin
X-LIC-LOCATION:Europe/Berlin
BEGIN:DAYLIGHT
TZOFFSETFROM:+0100
TZOFFSETTO:+0200
TZNAME:CEST
DTSTART:19700329T020000
RRULE:FREQ=YEARLY;BYDAY=-1SU;BYMONTH=3
END:DAYLIGHT
BEGIN:STANDARD
TZOFFSETFROM:+0200
TZOFFSETTO:+0100
TZNAME:CET
DTSTART:19701025T030000
RRULE:FREQ=YEARLY;BYDAY=-1SU;BYMONTH=10
END:STANDARD
END:VTIMEZONE
BEGIN:VEVENT
DTEND;TZID=Europe/Berlin:20260303T193000
UID:69e780dbd5f0c
DTSTAMP:20260421T155123
LOCATION:FBZ Grille
DESCRIPTION:Singen ist deine Leidenschaft? \r\n\r\nWir haben uns zum Ziel gesetzt einen stimmstarken Jugendchor zu formen\, der ab diesem Jahr die Stadt unsicher machen wird. \r\nZusammen mit Vanessa Donelly\, Filmkomponistin und Produzentin\, erleben wir humorvolle Proben und bestreiten große Konzerte. \r\nGesungen werden moderne Popsongs und unsere Lieblingsklassiker bis hin zu Filmmusik.\r\n\r\nDu fühlst dich angesprochen? Dann komm zu unseren Proben am Dienstag\, um 18:00 Uhr im FBZ Grille.\r\n\r\nVanessa Donelly studierte an der Musikhochschule Hannover- Klavier\, Gesang\, Geige\, Chor- und Orchesterleitung & leitet ab Mai den Jugendchor im FBZ Grille. Die Gifhornerin ist – mehrfach preisgekrönte – Komponistin von Filmmusik\, Produzentin und Songwriterin.\r\n\r\n
URL;VALUE=URI:https://www.unser-ferienprogramm.de/Gifhorn/veranstaltung.php?id=203951
SUMMARY:Musikprojekt- Jugendchor mit Vanessa Donelly- Jeden Dienstag!
DTSTART;TZID=Europe/Berlin:20260303T180000
END:VEVENT


BEGIN:VEVENT
DTEND;TZID=Europe/Berlin:20260310T193000
UID:69e780dbd5f551
DTSTAMP:20260421T155123
LOCATION:FBZ Grille
DESCRIPTION:Singen ist deine Leidenschaft? \r\n\r\nWir haben uns zum Ziel gesetzt einen stimmstarken Jugendchor zu formen\, der ab diesem Jahr die Stadt unsicher machen wird. \r\nZusammen mit Vanessa Donelly\, Filmkomponistin und Produzentin\, erleben wir humorvolle Proben und bestreiten große Konzerte. \r\nGesungen werden moderne Popsongs und unsere Lieblingsklassiker bis hin zu Filmmusik.\r\n\r\nDu fühlst dich angesprochen? Dann komm zu unseren Proben am Dienstag\, um 18:00 Uhr im FBZ Grille.\r\n\r\nVanessa Donelly studierte an der Musikhochschule Hannover- Klavier\, Gesang\, Geige\, Chor- und Orchesterleitung & leitet ab Mai den Jugendchor im FBZ Grille. Die Gifhornerin ist – mehrfach preisgekrönte – Komponistin von Filmmusik\, Produzentin und Songwriterin.\r\n\r\n
URL;VALUE=URI:https://www.unser-ferienprogramm.de/Gifhorn/veranstaltung.php?id=203951
SUMMARY:Musikprojekt- Jugendchor mit Vanessa Donelly- Jeden Dienstag!
DTSTART;TZID=Europe/Berlin:20260310T180000
END:VEVENT

END:VCALENDAR
