BEGIN:VCALENDAR
VERSION:2.0
PRODID:-//hacksw/handcal//NONSGML v1.0//EN
CALSCALE:GREGORIAN
BEGIN:VTIMEZONE
TZID:Europe/Berlin
X-LIC-LOCATION:Europe/Berlin
BEGIN:DAYLIGHT
TZOFFSETFROM:+0100
TZOFFSETTO:+0200
TZNAME:CEST
DTSTART:19700329T020000
RRULE:FREQ=YEARLY;BYDAY=-1SU;BYMONTH=3
END:DAYLIGHT
BEGIN:STANDARD
TZOFFSETFROM:+0200
TZOFFSETTO:+0100
TZNAME:CET
DTSTART:19701025T030000
RRULE:FREQ=YEARLY;BYDAY=-1SU;BYMONTH=10
END:STANDARD
END:VTIMEZONE
BEGIN:VEVENT
DTEND;TZID=Europe/Berlin:20260901T000000
UID:69e73f1e3a917
DTSTAMP:20260421T111054
LOCATION:Bundesministerium für Familie\, Senioren\, Frauen und Jugend
DESCRIPTION:Liebe Eltern\,\r\n\r\nbis zu 292 Euro pro Monat und Kind sind möglich. Familien mit geringem Einkommen können im neuen Jahr etwas mehr Unterstützung vom Staat erhalten: Zum 1. Januar 2024 ist der Kinderzuschlag auf bis zu 292 Euro pro Monat und Kind erhöht worden. Zuvor lag er bei bis zu 250 Euro.\r\n\r\nWer den Kinderzuschlag oder Wohngeld bekommt\, hat auch Anspruch auf Leistungen für Bildung und Teilhabe\, darüber können sie z.B. auch einen Zuschuss für eine Ferienfreizeit beantragen.\r\n\r\nWas ist der Kinderzuschlag?\r\nDer Kinderzuschlag ist eine zusätzliche finanzielle Unterstützung für erwerbstätige Eltern\, die genug für sich selbst verdienen\, aber bei denen es nicht oder nur knapp reicht\, um auch für den gesamten Bedarf der Familie aufzukommen.\r\n\r\n\r\n\r\n
URL;VALUE=URI:https://www.unser-ferienprogramm.de/Gifhorn/veranstaltung.php?id=176392
SUMMARY:*Kinderzuschlag/(BuT)*
DTSTART;TZID=Europe/Berlin:20260901T000000
END:VEVENT

END:VCALENDAR
