BEGIN:VCALENDAR
VERSION:2.0
PRODID:-//hacksw/handcal//NONSGML v1.0//EN
CALSCALE:GREGORIAN
BEGIN:VTIMEZONE
TZID:Europe/Berlin
X-LIC-LOCATION:Europe/Berlin
BEGIN:DAYLIGHT
TZOFFSETFROM:+0100
TZOFFSETTO:+0200
TZNAME:CEST
DTSTART:19700329T020000
RRULE:FREQ=YEARLY;BYDAY=-1SU;BYMONTH=3
END:DAYLIGHT
BEGIN:STANDARD
TZOFFSETFROM:+0200
TZOFFSETTO:+0100
TZNAME:CET
DTSTART:19701025T030000
RRULE:FREQ=YEARLY;BYDAY=-1SU;BYMONTH=10
END:STANDARD
END:VTIMEZONE
BEGIN:VEVENT
DTEND;TZID=Europe/Berlin:20270105T000000
UID:69e73f182198b
DTSTAMP:20260421T111048
LOCATION:Landkreis Gifhorn
DESCRIPTION:Was ist das Bildungspaket?\r\nDas Bildungspaket unterstützt Kinder\, Jugendliche und junge Erwachsene aus einkommensschwachen Familien mit finanziellen Zuschüssen. Mit den Leistungen haben sie mehr Zukunftschancen\, können sich unter Gleichaltrigen besser integrieren und Kontakte pflegen.\r\n\r\nWer bekommt diese Leistungen?\r\nKinder\, Jugendliche und junge Erwachsene erhalten Leistungen aus dem Bildungspaket\, wenn sie noch keine 25 Jahre alt sind\, keine Ausbildungsvergütung bekommen und eine der folgenden Sozialleistungen beziehen:\r\n\r\n• Grundsicherung für Arbeitsuchende nach dem SGB II („Hartz IV-Leistungen“)\,\r\n• Sozialhilfe nach dem SGB XII\,\r\n• Leistungen nach dem Asylbewerberleistungsgesetz (AsylbLG)\,\r\n• Wohngeld oder\r\n• Kinderzuschlag von der Familienkasse.\r\n\r\nFür Mitgliedsbeiträge\, den Unterricht in künstlerischen Fächern oder auch Freizeiten werden 15 Euro monatlich berücksichtigt. Das monatliche Budget kann auch für die Teilnahme an (teureren) Freizeitaktivitäten angespart werden
URL;VALUE=URI:https://www.unser-ferienprogramm.de/Gifhorn/veranstaltung.php?id=131490
SUMMARY:*Leistungen für Bildung und Teilhabe (BuT) bei Kindern\, Jugendlichen und jungen Erwachsenen*
DTSTART;TZID=Europe/Berlin:20270105T000000
END:VEVENT

END:VCALENDAR
