BEGIN:VCALENDAR
VERSION:2.0
PRODID:-//hacksw/handcal//NONSGML v1.0//EN
CALSCALE:GREGORIAN
BEGIN:VTIMEZONE
TZID:Europe/Berlin
X-LIC-LOCATION:Europe/Berlin
BEGIN:DAYLIGHT
TZOFFSETFROM:+0100
TZOFFSETTO:+0200
TZNAME:CEST
DTSTART:19700329T020000
RRULE:FREQ=YEARLY;BYDAY=-1SU;BYMONTH=3
END:DAYLIGHT
BEGIN:STANDARD
TZOFFSETFROM:+0200
TZOFFSETTO:+0100
TZNAME:CET
DTSTART:19701025T030000
RRULE:FREQ=YEARLY;BYDAY=-1SU;BYMONTH=10
END:STANDARD
END:VTIMEZONE
BEGIN:VEVENT
DTEND;TZID=Europe/Berlin:20260529T000000
UID:69e68ceb5b0b9
DTSTAMP:20260420T223035
LOCATION:Hamburg
DESCRIPTION:Moin\, Lust auf eine Woche voller Action\, Highlights und richtig guter Stimmung? Dann fahr mit uns nach Hamburg - Deutschlands spannendste Hafenstadt! Unsere Jugendreise hat einiges an Programm zu bieten - und natürlich bleibt dabei auch genug Zeit zum Chillen\, Shoppen und Erkunden. Untergebracht sind wir in einer Jugendherberge mit Halbpension\, fürs Frühstück und Abendessen ist somit gesorgt. \r\nEin echtes Highlight ist der Besuch des Musicals „Tarzan“: Lass dich von durch die Lüfte schwingenden Artisten\, pulsierender Musik und beeindruckenden Stunts mitreißen. \r\nAdrenalin gefällig? Dann ist unser Ausflug in den Heide Park genau das Richtige! Ob wilde Achterbahnen\, Wasserfahrten oder coole Themenwelten – hier ist für jeden etwas dabei. Aber nicht nur da gibt es Nervenkitzel\, sondern auch bei einem Besuch in den Hamburger Dungeons. Dort erwartet dich eine Mischung aus Grusel\, Geschichte und gutem Humor.\r\nEtwas entspannter\, aber genauso faszinierend wird es im Miniaturwunderland. Entdecke geschrumpfte Welten und Städte mit Liebe zum Detail. Bei unserem Besuch in Hamburg darf ein Blick auf den Hafen und die Landungsbrücken natürlich auch nicht fehlen. Genauso wirst du die Streetart der Stadt besser kennenlernen.\r\nSei dabei! Wir freuen uns auf dich.\r\n\r\nUm vorab bereits all eure Fragen klären zu können und damit ihr die Gelegenheit habt\, auch die anderen Teilnehmenden kennenzulernen\, findet am 06. Mai um 19 Uhr ein Informationsabend für euch und eure Eltern im Landratsamt Regensburg statt.\r\n
URL;VALUE=URI:https://www.unser-ferienprogramm.de/Beratzhausen/veranstaltung.php?id=300216
SUMMARY:Jugendreise Hamburg
DTSTART;TZID=Europe/Berlin:20260525T000000
END:VEVENT

END:VCALENDAR
