BEGIN:VCALENDAR
VERSION:2.0
PRODID:-//hacksw/handcal//NONSGML v1.0//EN
CALSCALE:GREGORIAN
BEGIN:VTIMEZONE
TZID:Europe/Berlin
X-LIC-LOCATION:Europe/Berlin
BEGIN:DAYLIGHT
TZOFFSETFROM:+0100
TZOFFSETTO:+0200
TZNAME:CEST
DTSTART:19700329T020000
RRULE:FREQ=YEARLY;BYDAY=-1SU;BYMONTH=3
END:DAYLIGHT
BEGIN:STANDARD
TZOFFSETFROM:+0200
TZOFFSETTO:+0100
TZNAME:CET
DTSTART:19701025T030000
RRULE:FREQ=YEARLY;BYDAY=-1SU;BYMONTH=10
END:STANDARD
END:VTIMEZONE
BEGIN:VEVENT
DTEND;TZID=Europe/Berlin:20261106T181500
UID:69e68cbbbc870
DTSTAMP:20260420T222947
LOCATION:Regenstauf
DESCRIPTION:Du liebst Musik und Bewegung? Dann komm zu unserem Tanzworkshop! Zusammen fahren wir in die Tanzschule AMA nach Regenstauf. Die professionelle Tänzerin und Tanzpädagogin Amalia Darie zeigt dir spannende Tricks und kleine Choreografien. Gemeinsam lernen wir elegante Ballettschritte\, drehen Pirouetten und probieren coole akrobatische Moves aus dem Acrodance. Egal ob Anfänger oder schon mit etwas Erfahrung - hier zählt vor allem der Spaß am Tanzen!
URL;VALUE=URI:https://www.unser-ferienprogramm.de/Beratzhausen/veranstaltung.php?id=298347
SUMMARY:Ballett und Acrodance Workshop mit Profitänzerin Amalia Darie
DTSTART;TZID=Europe/Berlin:20261106T140000
END:VEVENT

END:VCALENDAR
