BEGIN:VCALENDAR
VERSION:2.0
PRODID:-//hacksw/handcal//NONSGML v1.0//EN
CALSCALE:GREGORIAN
BEGIN:VTIMEZONE
TZID:Europe/Berlin
X-LIC-LOCATION:Europe/Berlin
BEGIN:DAYLIGHT
TZOFFSETFROM:+0100
TZOFFSETTO:+0200
TZNAME:CEST
DTSTART:19700329T020000
RRULE:FREQ=YEARLY;BYDAY=-1SU;BYMONTH=3
END:DAYLIGHT
BEGIN:STANDARD
TZOFFSETFROM:+0200
TZOFFSETTO:+0100
TZNAME:CET
DTSTART:19701025T030000
RRULE:FREQ=YEARLY;BYDAY=-1SU;BYMONTH=10
END:STANDARD
END:VTIMEZONE
BEGIN:VEVENT
DTEND;TZID=Europe/Berlin:20260821T123000
UID:69e68ce5c338b
DTSTAMP:20260420T223029
LOCATION:Beratzhausen
DESCRIPTION:Ihr habt Lust auf einen entspannten und kreativen Vormittag? Dann ist diese Aktion perfekt für euch! Mit allerlei Bastelmaterial erschafft ihr einzigartige Werke. Nebenbei bereiten wir uns einen kleinen Snack zu und schlürfen selbstgemischte alkoholfreie Cocktails. Natürlich könnt ihr nach getaner Arbeit auch noch die zahlreichen Möglichkeiten des Jugendtreffs nutzen!
URL;VALUE=URI:https://www.unser-ferienprogramm.de/Beratzhausen/veranstaltung.php?id=298339
SUMMARY:Basteln\, Snacken\, Cocktails schlürfen
DTSTART;TZID=Europe/Berlin:20260821T093000
END:VEVENT

END:VCALENDAR
