BEGIN:VCALENDAR
VERSION:2.0
PRODID:-//hacksw/handcal//NONSGML v1.0//EN
CALSCALE:GREGORIAN
BEGIN:VTIMEZONE
TZID:Europe/Berlin
X-LIC-LOCATION:Europe/Berlin
BEGIN:DAYLIGHT
TZOFFSETFROM:+0100
TZOFFSETTO:+0200
TZNAME:CEST
DTSTART:19700329T020000
RRULE:FREQ=YEARLY;BYDAY=-1SU;BYMONTH=3
END:DAYLIGHT
BEGIN:STANDARD
TZOFFSETFROM:+0200
TZOFFSETTO:+0100
TZNAME:CET
DTSTART:19701025T030000
RRULE:FREQ=YEARLY;BYDAY=-1SU;BYMONTH=10
END:STANDARD
END:VTIMEZONE
BEGIN:VEVENT
DTEND;TZID=Europe/Berlin:20260819T153000
UID:69e68d3ed35e6
DTSTAMP:20260420T223158
LOCATION:Hemau
DESCRIPTION:Bei dieser Aktion braucht ihr sowohl Kreativität als auch Detektivsinn! \r\nWir besprühen T-Shirts und Stoff-Taschen mit speziellen Graffitifarben und lassen so einzigartige Mode entstehen. \r\nNach dem Mittagessen werdet ihr Spürnasen bei einer spannenden Schnitzeljagt. Wenn euer Team alle Rätsel löst\, winkt eine Belohnung! 
URL;VALUE=URI:https://www.unser-ferienprogramm.de/Beratzhausen/veranstaltung.php?id=298334
SUMMARY:Graffitikunst auf Kleidung und Schnitzeljagt 
DTSTART;TZID=Europe/Berlin:20260819T090000
END:VEVENT

END:VCALENDAR
