BEGIN:VCALENDAR
VERSION:2.0
PRODID:-//hacksw/handcal//NONSGML v1.0//EN
CALSCALE:GREGORIAN
BEGIN:VTIMEZONE
TZID:Europe/Berlin
X-LIC-LOCATION:Europe/Berlin
BEGIN:DAYLIGHT
TZOFFSETFROM:+0100
TZOFFSETTO:+0200
TZNAME:CEST
DTSTART:19700329T020000
RRULE:FREQ=YEARLY;BYDAY=-1SU;BYMONTH=3
END:DAYLIGHT
BEGIN:STANDARD
TZOFFSETFROM:+0200
TZOFFSETTO:+0100
TZNAME:CET
DTSTART:19701025T030000
RRULE:FREQ=YEARLY;BYDAY=-1SU;BYMONTH=10
END:STANDARD
END:VTIMEZONE
BEGIN:VEVENT
DTEND;TZID=Europe/Berlin:20260817T160000
UID:69e6a161c3b42
DTSTAMP:20260420T235753
LOCATION:Beratzhausen
DESCRIPTION:Trecker fahren\, Eier sammeln\, Kartoffeln stechen und mit selbstgeschüttelter Butter zusammen Brotzeit machen. Auf dem Bio- und Erlebnisbauernhof der Familie Scheuerer gibt es viele Möglichkeiten ein paar spannende Stunden zu verbringen! Ihr könnt euch die vielen verschiedenen Tiere dort ganz aus der Nähe ansehen\, manche sogar streicheln und viel über sie lernen. Ein tolles Programm wartet auf euch!
URL;VALUE=URI:https://www.unser-ferienprogramm.de/Beratzhausen/veranstaltung.php?id=298333
SUMMARY:Tiertag: Bio- und Erlebnishof Scheuerer
DTSTART;TZID=Europe/Berlin:20260817T125500
END:VEVENT

END:VCALENDAR
