BEGIN:VCALENDAR
VERSION:2.0
PRODID:-//hacksw/handcal//NONSGML v1.0//EN
CALSCALE:GREGORIAN
BEGIN:VTIMEZONE
TZID:Europe/Berlin
X-LIC-LOCATION:Europe/Berlin
BEGIN:DAYLIGHT
TZOFFSETFROM:+0100
TZOFFSETTO:+0200
TZNAME:CEST
DTSTART:19700329T020000
RRULE:FREQ=YEARLY;BYDAY=-1SU;BYMONTH=3
END:DAYLIGHT
BEGIN:STANDARD
TZOFFSETFROM:+0200
TZOFFSETTO:+0100
TZNAME:CET
DTSTART:19701025T030000
RRULE:FREQ=YEARLY;BYDAY=-1SU;BYMONTH=10
END:STANDARD
END:VTIMEZONE
BEGIN:VEVENT
DTEND;TZID=Europe/Berlin:20260818T160000
UID:69e7ae9ee7489
DTSTAMP:20260421T190638
LOCATION:Römische Straßenstation Unterzell
DESCRIPTION:Zenturio Titus und seine Frau Julia erklären und spielen mit euch verschiedene Spiele aus der\r\nRömerzeit. Wir basteln mit euch ein römisches Rundmühlespiel aus Leder\, das ihr mit nach Hause\r\nnehmen dürft.\r\n
URL;VALUE=URI:https://www.unser-ferienprogramm.de/friedberg/veranstaltung.php?id=95331
SUMMARY:Römische Kinderspiele
DTSTART;TZID=Europe/Berlin:20260818T133000
END:VEVENT

END:VCALENDAR
