BEGIN:VCALENDAR
VERSION:2.0
PRODID:-//hacksw/handcal//NONSGML v1.0//EN
CALSCALE:GREGORIAN
BEGIN:VTIMEZONE
TZID:Europe/Berlin
X-LIC-LOCATION:Europe/Berlin
BEGIN:DAYLIGHT
TZOFFSETFROM:+0100
TZOFFSETTO:+0200
TZNAME:CEST
DTSTART:19700329T020000
RRULE:FREQ=YEARLY;BYDAY=-1SU;BYMONTH=3
END:DAYLIGHT
BEGIN:STANDARD
TZOFFSETFROM:+0200
TZOFFSETTO:+0100
TZNAME:CET
DTSTART:19701025T030000
RRULE:FREQ=YEARLY;BYDAY=-1SU;BYMONTH=10
END:STANDARD
END:VTIMEZONE
BEGIN:VEVENT
DTEND;TZID=Europe/Berlin:20260818T140000
UID:69e7b0ce7a24f
DTSTAMP:20260421T191558
LOCATION:Servicecenter BRK\, Hans-Böller-Str. 4\, 86316 Friedberg
DESCRIPTION:- Trau Dich - wenn Du oder jemand anderes Hilfe braucht!\r\nDieser Kurs zeigt Dir was zu tun ist bei: Nasenbluten\, Bauchschmerzen\, kleinen Verletzungen\, Ohnmacht\, Bewusstlosigkeit ...\r\n\r\n
URL;VALUE=URI:https://www.unser-ferienprogramm.de/friedberg/veranstaltung.php?id=93197
SUMMARY:"Auch du kannst helfen"
DTSTART;TZID=Europe/Berlin:20260818T100000
END:VEVENT

END:VCALENDAR
