BEGIN:VCALENDAR
VERSION:2.0
PRODID:-//hacksw/handcal//NONSGML v1.0//EN
CALSCALE:GREGORIAN
BEGIN:VTIMEZONE
TZID:Europe/Berlin
X-LIC-LOCATION:Europe/Berlin
BEGIN:DAYLIGHT
TZOFFSETFROM:+0100
TZOFFSETTO:+0200
TZNAME:CEST
DTSTART:19700329T020000
RRULE:FREQ=YEARLY;BYDAY=-1SU;BYMONTH=3
END:DAYLIGHT
BEGIN:STANDARD
TZOFFSETFROM:+0200
TZOFFSETTO:+0100
TZNAME:CET
DTSTART:19701025T030000
RRULE:FREQ=YEARLY;BYDAY=-1SU;BYMONTH=10
END:STANDARD
END:VTIMEZONE
BEGIN:VEVENT
DTEND;TZID=Europe/Berlin:20260805T123000
UID:69e798d0728df
DTSTAMP:20260421T173336
LOCATION:Archivgalerie\, 1. Stock
DESCRIPTION:Du bastelst und malst gerne? Du hast Lust auf ein kreatives Abenteuer mit Punch-Needle und Acrylfarbe? Dann bist Du bei uns genau richtig! Mit Stanznadel und knalligen Farben gestaltest Du Dein eigenes Kunstwerk – eine perfekte Kombination aus Textil- und Maltechnik. \r\nDu darfst aus einer Vielzahl von Motiven (z. B. Tiere\, Blumen oder Landschaften) auswählen oder Deiner Fantasie freien Lauf lassen.\r\nHülya von StraightCurls zeigt Dir Schritt für Schritt\, wie die Technik des Punch-Needling funktioniert und wie Du das Ganze mit Acrylmalerei verbinden kannst. \r\nAlle Materialien stellen wir Dir zur Verfügung\, was Du mitbringen darfst\, ist die Lust auf Kreativität!\r\nWas erwartet die Kinder?\r\n Kombination aus Punch-Needle-Technik und Acrylmalerei\r\n Auswahl aus vielen bunten Motiven (z. B. Tiere\, Blumen\, Landschaften)\r\n Ein eigenes Kunstwerk zum Mitnehmen\r\n Kreative Ferienzeit voller Spaß
URL;VALUE=URI:https://www.unser-ferienprogramm.de/friedberg/veranstaltung.php?id=315979
SUMMARY:Punch Needling & Acrylmalerei
DTSTART;TZID=Europe/Berlin:20260805T100000
END:VEVENT

END:VCALENDAR
