BEGIN:VCALENDAR
VERSION:2.0
PRODID:-//hacksw/handcal//NONSGML v1.0//EN
CALSCALE:GREGORIAN
BEGIN:VTIMEZONE
TZID:Europe/Berlin
X-LIC-LOCATION:Europe/Berlin
BEGIN:DAYLIGHT
TZOFFSETFROM:+0100
TZOFFSETTO:+0200
TZNAME:CEST
DTSTART:19700329T020000
RRULE:FREQ=YEARLY;BYDAY=-1SU;BYMONTH=3
END:DAYLIGHT
BEGIN:STANDARD
TZOFFSETFROM:+0200
TZOFFSETTO:+0100
TZNAME:CET
DTSTART:19701025T030000
RRULE:FREQ=YEARLY;BYDAY=-1SU;BYMONTH=10
END:STANDARD
END:VTIMEZONE
BEGIN:VEVENT
DTEND;TZID=Europe/Berlin:20260903T151500
UID:69e7af6a20e6b
DTSTAMP:20260421T191002
LOCATION:Stadl-Bauernhof\, Eglersried 4 85229
DESCRIPTION:Erlebt einen tollen Tag auf dem Bauernhof! Nach der Begrüßung besucht ihr unsere Tiere wie Pferde\, Ponys\, Hasen\, Schafe und Hühner.\r\n\r\nBeim gemeinsamen Backen entdeckt ihr den Weg vom Korn zum Teig: Getreide anschauen\, Mehl mahlen und daraus Brot\, Pizza oder Pfannkuchen zubereiten\, anschließend natürlich gemeinsam essen!\r\n\r\nZum Spielen stehen Sandkasten\, Strohkasten\, Tretfahrzeuge und Hüpftiere bereit.\r\n\r\nEin Tag voller Spaß\, Tiere und Natur!
URL;VALUE=URI:https://www.unser-ferienprogramm.de/friedberg/veranstaltung.php?id=315141
SUMMARY:Stadlbauernhof
DTSTART;TZID=Europe/Berlin:20260903T094500
END:VEVENT

END:VCALENDAR
