BEGIN:VCALENDAR
VERSION:2.0
PRODID:-//hacksw/handcal//NONSGML v1.0//EN
CALSCALE:GREGORIAN
BEGIN:VTIMEZONE
TZID:Europe/Berlin
X-LIC-LOCATION:Europe/Berlin
BEGIN:DAYLIGHT
TZOFFSETFROM:+0100
TZOFFSETTO:+0200
TZNAME:CEST
DTSTART:19700329T020000
RRULE:FREQ=YEARLY;BYDAY=-1SU;BYMONTH=3
END:DAYLIGHT
BEGIN:STANDARD
TZOFFSETFROM:+0200
TZOFFSETTO:+0100
TZNAME:CET
DTSTART:19701025T030000
RRULE:FREQ=YEARLY;BYDAY=-1SU;BYMONTH=10
END:STANDARD
END:VTIMEZONE
BEGIN:VEVENT
DTEND;TZID=Europe/Berlin:20260805T123000
UID:69e79495b5172
DTSTAMP:20260421T171533
LOCATION:Sieber Hof\, 86570 Inchenhofen - Sainbach
DESCRIPTION:Kommt mit auf eine spannende Entdeckungsreise über den Bauernhof! An abwechslungsreichen Mitmach-Stationen können Kinder den Hof mit allen Sinnen erleben: fühlen\, riechen\, sehen und ausprobieren. Ob beim Ertasten im Fühlkasten\, beim Erkennen von Tierspuren\, beim Zuordnen verschiedener Eier oder beim Selberquetschen von Haferflocken\, es gibt viel zu entdecken und auszuprobieren.\r\n\r\nAußerdem laden ein Strohboden\, verschiedene Fahrzeuge\, ein Maisbad und ein großer Sandkasten zum Spielen ein. Natürlich dürfen auch unsere Tiere nicht fehlen – sie freuen sich auf neugierige Besucher!\r\n\r\nEin erlebnisreicher Tag voller Spaß\, Bewegung und spannender Einblicke in das Leben auf dem Bauernhof!
URL;VALUE=URI:https://www.unser-ferienprogramm.de/friedberg/veranstaltung.php?id=314460
SUMMARY:Den Bauernhof mit allen Sinnen erleben
DTSTART;TZID=Europe/Berlin:20260805T084500
END:VEVENT

END:VCALENDAR
