BEGIN:VCALENDAR
VERSION:2.0
PRODID:-//hacksw/handcal//NONSGML v1.0//EN
CALSCALE:GREGORIAN
BEGIN:VTIMEZONE
TZID:Europe/Berlin
X-LIC-LOCATION:Europe/Berlin
BEGIN:DAYLIGHT
TZOFFSETFROM:+0100
TZOFFSETTO:+0200
TZNAME:CEST
DTSTART:19700329T020000
RRULE:FREQ=YEARLY;BYDAY=-1SU;BYMONTH=3
END:DAYLIGHT
BEGIN:STANDARD
TZOFFSETFROM:+0200
TZOFFSETTO:+0100
TZNAME:CET
DTSTART:19701025T030000
RRULE:FREQ=YEARLY;BYDAY=-1SU;BYMONTH=10
END:STANDARD
END:VTIMEZONE
BEGIN:VEVENT
DTEND;TZID=Europe/Berlin:20260805T160000
UID:69e7af4220cb2
DTSTAMP:20260421T190922
LOCATION:Büchelstraße 1f\, 86438 Kissing
DESCRIPTION:Wir gestalten ein kleines Dot-Painting-Bild auf einer Holztafel.\r\nAls erstes erfahren wir ein wenig über die Kunst der Aboriginees und machen uns mit deren Motiven und ihrer Bedeutung vertraut.\r\nDanach üben wir die Technik auf Papier. Anschließend darf jeder seine eigene Holztafel gestalten.\r\nZuerst grundieren wir die Leinwand und sobald diese trocken ist\, darf jeder sein eigenes Bild anfertigen.
URL;VALUE=URI:https://www.unser-ferienprogramm.de/friedberg/veranstaltung.php?id=313166
SUMMARY:Dotpainting
DTSTART;TZID=Europe/Berlin:20260805T130000
END:VEVENT

END:VCALENDAR
