BEGIN:VCALENDAR
VERSION:2.0
PRODID:-//hacksw/handcal//NONSGML v1.0//EN
CALSCALE:GREGORIAN
BEGIN:VTIMEZONE
TZID:Europe/Berlin
X-LIC-LOCATION:Europe/Berlin
BEGIN:DAYLIGHT
TZOFFSETFROM:+0100
TZOFFSETTO:+0200
TZNAME:CEST
DTSTART:19700329T020000
RRULE:FREQ=YEARLY;BYDAY=-1SU;BYMONTH=3
END:DAYLIGHT
BEGIN:STANDARD
TZOFFSETFROM:+0200
TZOFFSETTO:+0100
TZNAME:CET
DTSTART:19701025T030000
RRULE:FREQ=YEARLY;BYDAY=-1SU;BYMONTH=10
END:STANDARD
END:VTIMEZONE
BEGIN:VEVENT
DTEND;TZID=Europe/Berlin:20260812T113000
UID:69e7af40b49de
DTSTAMP:20260421T190920
LOCATION:Bäckerei Scharold
DESCRIPTION:Führung durch die Backstube. \r\nMit Erklärung. \r\n\r\nPräsent zum Schluss
URL;VALUE=URI:https://www.unser-ferienprogramm.de/friedberg/veranstaltung.php?id=307544
SUMMARY:Gläserne Bäckerei - Besichtigung Scharold
DTSTART;TZID=Europe/Berlin:20260812T100000
END:VEVENT

END:VCALENDAR
