BEGIN:VCALENDAR
VERSION:2.0
PRODID:-//hacksw/handcal//NONSGML v1.0//EN
CALSCALE:GREGORIAN
BEGIN:VTIMEZONE
TZID:Europe/Berlin
X-LIC-LOCATION:Europe/Berlin
BEGIN:DAYLIGHT
TZOFFSETFROM:+0100
TZOFFSETTO:+0200
TZNAME:CEST
DTSTART:19700329T020000
RRULE:FREQ=YEARLY;BYDAY=-1SU;BYMONTH=3
END:DAYLIGHT
BEGIN:STANDARD
TZOFFSETFROM:+0200
TZOFFSETTO:+0100
TZNAME:CET
DTSTART:19701025T030000
RRULE:FREQ=YEARLY;BYDAY=-1SU;BYMONTH=10
END:STANDARD
END:VTIMEZONE
BEGIN:VEVENT
DTEND;TZID=Europe/Berlin:20260813T163000
UID:69e7af419a4d0
DTSTAMP:20260421T190921
LOCATION:Augsburg
DESCRIPTION:Gemeinsam besichtigen wir die heiligen Hallen des FC Augsburg\, betreten das Stadion durch den Spielertunnel und nehmen auf der Auswechselbank des FCA Platz. Weitere Highlights der Tour durch die WWK ARENA sind die Besichtigung des Pressekonferenzraums\, des Business Clubs\, der Mixed Zone sowie des Kabinentrakts.
URL;VALUE=URI:https://www.unser-ferienprogramm.de/friedberg/veranstaltung.php?id=307541
SUMMARY:Arena Tour in der WWK Arena
DTSTART;TZID=Europe/Berlin:20260813T130000
END:VEVENT

END:VCALENDAR
