BEGIN:VCALENDAR
VERSION:2.0
PRODID:-//hacksw/handcal//NONSGML v1.0//EN
CALSCALE:GREGORIAN
BEGIN:VTIMEZONE
TZID:Europe/Berlin
X-LIC-LOCATION:Europe/Berlin
BEGIN:DAYLIGHT
TZOFFSETFROM:+0100
TZOFFSETTO:+0200
TZNAME:CEST
DTSTART:19700329T020000
RRULE:FREQ=YEARLY;BYDAY=-1SU;BYMONTH=3
END:DAYLIGHT
BEGIN:STANDARD
TZOFFSETFROM:+0200
TZOFFSETTO:+0100
TZNAME:CET
DTSTART:19701025T030000
RRULE:FREQ=YEARLY;BYDAY=-1SU;BYMONTH=10
END:STANDARD
END:VTIMEZONE
BEGIN:VEVENT
DTEND;TZID=Europe/Berlin:20260805T170000
UID:69e794c805575
DTSTAMP:20260421T171624
LOCATION:Burgstraße 1\, 86655 Harburg
DESCRIPTION:Bei der Führung durch das Schloss Harburg gehen Kinder auf eine spannende Reise durch fast 900 Jahre Geschichte. \r\n\r\nGemeinsam entdecken wir die alte Burg mit ihren dicken Mauern und hohen Türmen. Wir schauen in die schöne Schlosskirche St. Michael und spazieren über den Wehrgang\, auf dem früher die Ritter Wache gehalten haben.\r\n\r\nAußerdem werfen wir einen Blick in den Gefängnisturm und in den alten Gerichtssaal. Hier erfahrt ihr\, wie man früher Recht gesprochen hat. Zum Schluss besuchen wir die prächtigen Räume\, in denen Grafen und Fürsten gelebt haben.\r\n\r\nEine spannende Zeitreise für kleine Entdecker!
URL;VALUE=URI:https://www.unser-ferienprogramm.de/friedberg/veranstaltung.php?id=305716
SUMMARY:Kinderführung Schloss Harburg
DTSTART;TZID=Europe/Berlin:20260805T123000
END:VEVENT

END:VCALENDAR
