BEGIN:VCALENDAR
VERSION:2.0
PRODID:-//hacksw/handcal//NONSGML v1.0//EN
CALSCALE:GREGORIAN
BEGIN:VTIMEZONE
TZID:Europe/Berlin
X-LIC-LOCATION:Europe/Berlin
BEGIN:DAYLIGHT
TZOFFSETFROM:+0100
TZOFFSETTO:+0200
TZNAME:CEST
DTSTART:19700329T020000
RRULE:FREQ=YEARLY;BYDAY=-1SU;BYMONTH=3
END:DAYLIGHT
BEGIN:STANDARD
TZOFFSETFROM:+0200
TZOFFSETTO:+0100
TZNAME:CET
DTSTART:19701025T030000
RRULE:FREQ=YEARLY;BYDAY=-1SU;BYMONTH=10
END:STANDARD
END:VTIMEZONE
BEGIN:VEVENT
DTEND;TZID=Europe/Berlin:20260911T160000
UID:69e7b07137a31
DTSTAMP:20260421T191425
LOCATION:Jugendzentrum Friedberg
DESCRIPTION:In den Sommerferien bietet das Jugendzentrum ein abwechslungsreiches Betreuungsangebot für Kinder im Alter von 6 bis 11 Jahren an. Die Betreuung beginnt täglich ab ca. 7:30 Uhr\; die Kinder sollten bis spätestens 16:30 Uhr wieder abgeholt werden.\r\n\r\nFür das leibliche Wohl ist gesorgt: Die Kinder erhalten ein gemeinsames Frühstück\, ein frisch zubereitetes Mittagessen sowie kleine Snacks für zwischendurch. Bitte geben Sie Ihrem Kind eine Trinkflasche mit – so können wir sie tagsüber regelmäßig mit Getränken auffüllen.\r\n\r\nUnser Programm bietet zahlreiche Spiel- und Freizeitmöglichkeiten:\r\nOb Kicker\, Darts\, Billard\, Karten- oder Gesellschaftsspiele – für jedes Kind ist etwas dabei. Kreative Angebote wie Malen und Basteln runden das Angebot ab.\r\n\r\nTäglich unternehmen wir Ausflüge – etwa in den Stadtpark\, auf verschiedene Spielplätze oder zu spannenden Orten in Friedberg. Darüber hinaus planen wir kleine Projekte\, wie zum Beispiel den Bau eines eigenen Gemüsebeets oder ähnliche Aktionen\, bei denen die Kinder mitgestalten können.\r\n\r\nDie gesamte Betreuung erfolgt durch erfahrene pädagogische Fachkräfte\, die für eine sichere und schöne Ferienzeit sorgen.\r\n\r\n
URL;VALUE=URI:https://www.unser-ferienprogramm.de/friedberg/veranstaltung.php?id=269014
SUMMARY:Ferienbetreuung im Jugendzentrum - Sommerferienprogramm für Kinder von 6 bis 11 Jahren
DTSTART;TZID=Europe/Berlin:20260907T073000
END:VEVENT

END:VCALENDAR
