BEGIN:VCALENDAR
VERSION:2.0
PRODID:-//hacksw/handcal//NONSGML v1.0//EN
CALSCALE:GREGORIAN
BEGIN:VTIMEZONE
TZID:Europe/Berlin
X-LIC-LOCATION:Europe/Berlin
BEGIN:DAYLIGHT
TZOFFSETFROM:+0100
TZOFFSETTO:+0200
TZNAME:CEST
DTSTART:19700329T020000
RRULE:FREQ=YEARLY;BYDAY=-1SU;BYMONTH=3
END:DAYLIGHT
BEGIN:STANDARD
TZOFFSETFROM:+0200
TZOFFSETTO:+0100
TZNAME:CET
DTSTART:19701025T030000
RRULE:FREQ=YEARLY;BYDAY=-1SU;BYMONTH=10
END:STANDARD
END:VTIMEZONE
BEGIN:VEVENT
DTEND;TZID=Europe/Berlin:20260812T140000
UID:69e7b0cf390fc
DTSTAMP:20260421T191559
LOCATION:Jugendverkehrsschule Friedberg
DESCRIPTION:Die Kinder werden zur Jugendverkehrsschule nach Friedberg gebracht.\r\nGemeinsame Begrüßung und Vorstellung\, die Kinder bekommen ein Namensschild von uns!\r\n\r\nAuf dem Gelände des Verkehrsübungsplatzes in Friedberg wird mit den Kindern das richtige und sichere Verhalten im Straßenverkehr trainiert.\r\nFreiräume für Spiel und Bewegung sind selbstverständlich gegeben.\r\nDurch die Spiele werden motorische Fähigkeiten geübt und verbessert:\r\nReaktion\, Gleichgewicht\, Aufmerksamkeit\, Wahrnehmungsfähigkeit.\r\nBewegungssicherheit steht im unmittelbaren Zusammenhang mit der Verkehrssicherheit.\r\nDas Highlight ist selbstverständlich der Parcours auf dem Verkehrsübungsplatz\, der sonst nur den 4. Klassen für die Jugendverkehrsschule zugänglich ist.\r\n\r\nVerabschiedung der Kinder\, Abholung durch die Eltern oder einer bevollmächtigten Person.\r\n
URL;VALUE=URI:https://www.unser-ferienprogramm.de/friedberg/veranstaltung.php?id=250310
SUMMARY:Spiel und Spaß mit dem Fahrrad
DTSTART;TZID=Europe/Berlin:20260812T100000
END:VEVENT

END:VCALENDAR
