BEGIN:VCALENDAR
VERSION:2.0
PRODID:-//hacksw/handcal//NONSGML v1.0//EN
CALSCALE:GREGORIAN
BEGIN:VTIMEZONE
TZID:Europe/Berlin
X-LIC-LOCATION:Europe/Berlin
BEGIN:DAYLIGHT
TZOFFSETFROM:+0100
TZOFFSETTO:+0200
TZNAME:CEST
DTSTART:19700329T020000
RRULE:FREQ=YEARLY;BYDAY=-1SU;BYMONTH=3
END:DAYLIGHT
BEGIN:STANDARD
TZOFFSETFROM:+0200
TZOFFSETTO:+0100
TZNAME:CET
DTSTART:19701025T030000
RRULE:FREQ=YEARLY;BYDAY=-1SU;BYMONTH=10
END:STANDARD
END:VTIMEZONE
BEGIN:VEVENT
DTEND;TZID=Europe/Berlin:20260914T110000
UID:69e7c99cc1cb3
DTSTAMP:20260421T210148
LOCATION:Friedberger Baggersee
DESCRIPTION:Ihr lernt das Starten mit Wasserskiern und Wakeboards\, dreht dann cool eure Runden auf dem See.\r\n\r\nKinder müssen im See 50m schwimmen können !!!!\r\n(Einlass 10 Minuten vorher)\r\n
URL;VALUE=URI:https://www.unser-ferienprogramm.de/friedberg/veranstaltung.php?id=193395
SUMMARY:Wakeboard- und Wasserskikurs - nur für geübte Schwimmer
DTSTART;TZID=Europe/Berlin:20260914T090000
END:VEVENT

END:VCALENDAR
