BEGIN:VCALENDAR
VERSION:2.0
PRODID:-//hacksw/handcal//NONSGML v1.0//EN
CALSCALE:GREGORIAN
BEGIN:VTIMEZONE
TZID:Europe/Berlin
X-LIC-LOCATION:Europe/Berlin
BEGIN:DAYLIGHT
TZOFFSETFROM:+0100
TZOFFSETTO:+0200
TZNAME:CEST
DTSTART:19700329T020000
RRULE:FREQ=YEARLY;BYDAY=-1SU;BYMONTH=3
END:DAYLIGHT
BEGIN:STANDARD
TZOFFSETFROM:+0200
TZOFFSETTO:+0100
TZNAME:CET
DTSTART:19701025T030000
RRULE:FREQ=YEARLY;BYDAY=-1SU;BYMONTH=10
END:STANDARD
END:VTIMEZONE
BEGIN:VEVENT
DTEND;TZID=Europe/Berlin:20260810T180000
UID:69e7af3fed7c1
DTSTAMP:20260421T190919
LOCATION:85356  München-Flughafen Nordallee 7
DESCRIPTION:Die Airport-Live-Tour bringt euch mitten ins Geschehen der Flughafenwelt.\r\n\r\nKommt mit\, werft einen spannenden Blick hinter die Kulissen\, bestaunt riesige Flugzeuge und das Treiben auf dem Vorfeld aus nächster Nähe: Starts\, Landungen\, parkende Maschinen aus aller Welt und die vielen kleinen und großen Prozesse\, die rundherum während der Abfertigung stattfinden.\r\n\r\nDie momentane Situation hat auch das Flughafengeschehen verändert. Erfahrt spannende Hintergrundinformationen\, die Veränderungen und was es nun alles Neues zu beachten gibt.\r\n\r\nMit unseren erfahrenen Tourguides erlebt ihr ein einzigartiges Ausflugserlebnis
URL;VALUE=URI:https://www.unser-ferienprogramm.de/friedberg/veranstaltung.php?id=159157
SUMMARY:Live-Tour am Flughafen München
DTSTART;TZID=Europe/Berlin:20260810T120000
END:VEVENT

END:VCALENDAR
