BEGIN:VCALENDAR
VERSION:2.0
PRODID:-//hacksw/handcal//NONSGML v1.0//EN
CALSCALE:GREGORIAN
BEGIN:VTIMEZONE
TZID:Europe/Berlin
X-LIC-LOCATION:Europe/Berlin
BEGIN:DAYLIGHT
TZOFFSETFROM:+0100
TZOFFSETTO:+0200
TZNAME:CEST
DTSTART:19700329T020000
RRULE:FREQ=YEARLY;BYDAY=-1SU;BYMONTH=3
END:DAYLIGHT
BEGIN:STANDARD
TZOFFSETFROM:+0200
TZOFFSETTO:+0100
TZNAME:CET
DTSTART:19701025T030000
RRULE:FREQ=YEARLY;BYDAY=-1SU;BYMONTH=10
END:STANDARD
END:VTIMEZONE
BEGIN:VEVENT
DTEND;TZID=Europe/Berlin:20260804T183000
UID:69e7b08a33888
DTSTAMP:20260421T191450
LOCATION:Landkreisstadion in der Rothenbergstraße (gegenüber dem Gymnasium)
DESCRIPTION:In der ersten Woche der Sommerferien bieten wir für jeden\, der gerne mal in ein Leichtathletik Training schnuppern möchte\, die Gelegenheit von 17:00 bis 18:30 Uhr in dem Landkreisstadion der Rothenbergstraße (gegenüber dem Gymnasium) in Friedberg teilzunehmen. Zum Training solltet ihr euch dem Wetter entsprechend kleiden\, z.B. Sportschuhe\, kurze Sportkleidung und für den Abend eine Jacke. 
URL;VALUE=URI:https://www.unser-ferienprogramm.de/friedberg/veranstaltung.php?id=135368
SUMMARY:Leichtathletik Sommertraining bei der DJK Friedberg
DTSTART;TZID=Europe/Berlin:20260804T170000
END:VEVENT

END:VCALENDAR
