BEGIN:VCALENDAR
VERSION:2.0
PRODID:-//hacksw/handcal//NONSGML v1.0//EN
CALSCALE:GREGORIAN
BEGIN:VTIMEZONE
TZID:Europe/Berlin
X-LIC-LOCATION:Europe/Berlin
BEGIN:DAYLIGHT
TZOFFSETFROM:+0100
TZOFFSETTO:+0200
TZNAME:CEST
DTSTART:19700329T020000
RRULE:FREQ=YEARLY;BYDAY=-1SU;BYMONTH=3
END:DAYLIGHT
BEGIN:STANDARD
TZOFFSETFROM:+0200
TZOFFSETTO:+0100
TZNAME:CET
DTSTART:19701025T030000
RRULE:FREQ=YEARLY;BYDAY=-1SU;BYMONTH=10
END:STANDARD
END:VTIMEZONE
BEGIN:VEVENT
DTEND;TZID=Europe/Berlin:20260910T110000
UID:69e7c66f234b1
DTSTAMP:20260421T204815
LOCATION:Sportzentrum des TSV Friedberg\, Hans-Böller-Straße 3\, 86316 Friedberg
DESCRIPTION:Mit den Jumpinos kann jeder das Seilspringen mal ausprobieren: egal ob Anfänger oder Profi\, einfach mitmachen!\r\n\r\nAusgebildete Trainer der Jumpinos werden mit euch das ganze Seil-Spektrum ausprobieren: Das Springen im Einzelseil\, mit Partner im Two in One oder Wheel und natürlich auch die langen Seil Disziplinen Long Rope und Double Dutch kommen nicht zu kurz!\r\n\r\nEigene Seile könnt ihr gerne mitbringen (bitte vorher beschriften!) oder bei uns Seile ausleihen.\r\n\r\n
URL;VALUE=URI:https://www.unser-ferienprogramm.de/friedberg/veranstaltung.php?id=127598
SUMMARY:Rope Skipping – Seilspringen der anderen Art
DTSTART;TZID=Europe/Berlin:20260908T090000
END:VEVENT

END:VCALENDAR
