BEGIN:VCALENDAR
VERSION:2.0
PRODID:-//hacksw/handcal//NONSGML v1.0//EN
CALSCALE:GREGORIAN
BEGIN:VTIMEZONE
TZID:Europe/Berlin
X-LIC-LOCATION:Europe/Berlin
BEGIN:DAYLIGHT
TZOFFSETFROM:+0100
TZOFFSETTO:+0200
TZNAME:CEST
DTSTART:19700329T020000
RRULE:FREQ=YEARLY;BYDAY=-1SU;BYMONTH=3
END:DAYLIGHT
BEGIN:STANDARD
TZOFFSETFROM:+0200
TZOFFSETTO:+0100
TZNAME:CET
DTSTART:19701025T030000
RRULE:FREQ=YEARLY;BYDAY=-1SU;BYMONTH=10
END:STANDARD
END:VTIMEZONE
BEGIN:VEVENT
DTEND;TZID=Europe/Berlin:20260804T150000
UID:69e794c88edd8
DTSTAMP:20260421T171624
LOCATION:Sportzentrum des TSV Friedbergs\, Hans-Böller-Straße 3\, 86316 Friedberg
DESCRIPTION:Bei den Trampolinern des TSV Friedberg kann jeder einmal nach Herzenslust in die Luft springen. \r\nMit ausgebildeten Trainern könnt ihr unsere großen Sportgeräte ausprobieren und verschiedene Tricks lernen. \r\nWer besonders mutig ist\, kann hier sogar einen Rückwärts-Salto lernen. \r\nWir freuen uns auf euch!\r\n
URL;VALUE=URI:https://www.unser-ferienprogramm.de/friedberg/veranstaltung.php?id=127591
SUMMARY:Tramponlinspringen 
DTSTART;TZID=Europe/Berlin:20260804T121500
END:VEVENT

END:VCALENDAR
