BEGIN:VCALENDAR
VERSION:2.0
PRODID:-//hacksw/handcal//NONSGML v1.0//EN
CALSCALE:GREGORIAN
BEGIN:VTIMEZONE
TZID:Europe/Berlin
X-LIC-LOCATION:Europe/Berlin
BEGIN:DAYLIGHT
TZOFFSETFROM:+0100
TZOFFSETTO:+0200
TZNAME:CEST
DTSTART:19700329T020000
RRULE:FREQ=YEARLY;BYDAY=-1SU;BYMONTH=3
END:DAYLIGHT
BEGIN:STANDARD
TZOFFSETFROM:+0200
TZOFFSETTO:+0100
TZNAME:CET
DTSTART:19701025T030000
RRULE:FREQ=YEARLY;BYDAY=-1SU;BYMONTH=10
END:STANDARD
END:VTIMEZONE
BEGIN:VEVENT
DTEND;TZID=Europe/Berlin:20260804T163000
UID:69e79ab10c75c
DTSTAMP:20260421T174137
LOCATION:Augsburger Zoo
DESCRIPTION:Der Zoo Augsburg bietet uns eine Führung mit speziellen Events an\, die der normale Zoobesucher nicht zu sehen bekommt. Mit faszinierenden\, spannenden und lustigen Geschichten über die tierischen Zoobewohner und aus dem Zooalltag und einer Menge Fell\, Federn\, Eiern oder Haut zum Anfassen und daran Riechen\, erlebst Du den Zoo mal ganz anders ...  Lass dich überraschen!\r\nAnschließend besuchen wir gemeinsam den neuen großen Spielplatz im Zoo.\r\n\r\nKinder\, die eine Jahreskarte besitzen - diese bitte mitbringen!
URL;VALUE=URI:https://www.unser-ferienprogramm.de/friedberg/veranstaltung.php?id=122650
SUMMARY:Augsburger Zoo mit der AWO
DTSTART;TZID=Europe/Berlin:20260804T130000
END:VEVENT

END:VCALENDAR
