BEGIN:VCALENDAR
VERSION:2.0
PRODID:-//hacksw/handcal//NONSGML v1.0//EN
CALSCALE:GREGORIAN
BEGIN:VTIMEZONE
TZID:Europe/Berlin
X-LIC-LOCATION:Europe/Berlin
BEGIN:DAYLIGHT
TZOFFSETFROM:+0100
TZOFFSETTO:+0200
TZNAME:CEST
DTSTART:19700329T020000
RRULE:FREQ=YEARLY;BYDAY=-1SU;BYMONTH=3
END:DAYLIGHT
BEGIN:STANDARD
TZOFFSETFROM:+0200
TZOFFSETTO:+0100
TZNAME:CET
DTSTART:19701025T030000
RRULE:FREQ=YEARLY;BYDAY=-1SU;BYMONTH=10
END:STANDARD
END:VTIMEZONE
BEGIN:VEVENT
DTEND;TZID=Europe/Berlin:20260811T163000
UID:69e7b0b4c72d5
DTSTAMP:20260421T191532
LOCATION:Wasserkraftwerk Langweid\, Lechwerkstraße 19\, 86462 Langweid
DESCRIPTION:Kommt mit uns auf eine spannende Reise ins Lechmuseum Bayern im historischen Wasserkraftwerk Langweid! Hier tauchen wir in die faszinierende Geschichte des Lechs ein – einem Fluss\, der seit Jahrtausenden das Leben der Menschen prägt.\r\n\r\nIm Museum erwarten euch interaktive Erlebnisse\, bei denen ihr spielerisch mehr über die Natur\, Geschichte und Bedeutung des Lechs erfahrt. Wusstet ihr\, dass der Fluss einst eine wichtige Handelsroute war oder dass er heute noch Strom für die Region liefert?\r\n\r\nHighlights der Fahrt:\r\nSpannende Ausstellungen zu Natur\, Geschichte und Energiegewinnung\r\n - Begehbare historische Turbinenkammer\r\n - Ein Flussreise-Film\, der den Lech von der Quelle bis zur Mündung zeigt\r\n - Ein Kraftwerkspfad mit originalem Lechfloß\r\n - Spielerisches Lernen mit interaktiven Stationen für Kinder\r\n\r\nDiese Fahrt ist perfekt für neugierige Entdecker und kleine Abenteurer\, die den Lech und seine Geschichte hautnah erleben wollen!
URL;VALUE=URI:https://www.unser-ferienprogramm.de/friedberg/veranstaltung.php?id=122379
SUMMARY:Lechmuseum Bayern
DTSTART;TZID=Europe/Berlin:20260811T130000
END:VEVENT

END:VCALENDAR
