BEGIN:VCALENDAR
VERSION:2.0
PRODID:-//hacksw/handcal//NONSGML v1.0//EN
CALSCALE:GREGORIAN
BEGIN:VTIMEZONE
TZID:Europe/Berlin
X-LIC-LOCATION:Europe/Berlin
BEGIN:DAYLIGHT
TZOFFSETFROM:+0100
TZOFFSETTO:+0200
TZNAME:CEST
DTSTART:19700329T020000
RRULE:FREQ=YEARLY;BYDAY=-1SU;BYMONTH=3
END:DAYLIGHT
BEGIN:STANDARD
TZOFFSETFROM:+0200
TZOFFSETTO:+0100
TZNAME:CET
DTSTART:19701025T030000
RRULE:FREQ=YEARLY;BYDAY=-1SU;BYMONTH=10
END:STANDARD
END:VTIMEZONE
BEGIN:VEVENT
DTEND;TZID=Europe/Berlin:20260807T180000
UID:69e7b07237d82
DTSTAMP:20260421T191426
LOCATION:Kletterwald Schloss Scherneck
DESCRIPTION:Klettern heißt Höhenluft schnuppern und dabei seine eigenen Grenzen überwinden. Ein Erlebnis mit hohem Spaßfaktor und pädagogisch sehr wertvoll. Werte wie Vertrauen\, Sicherheit und Verantwortung hautnah. Klettern macht Spaß\, bietet körperliche und mentale Herausforderungen für jeden Einzelnen und stärkt den Zusammenhalt.\r\n\r\nVorkenntnisse sind nicht erforderlich. Unsere erfahrenen und sehr gut ausgebildeten Sicherheitstrainer absolvieren gemeinsam eine gründliche Einweisung. Ausgerüstet mit Helm und einem innovativen Sicherungssystem starten die Kinder in Kleingruppen in den Parcours.
URL;VALUE=URI:https://www.unser-ferienprogramm.de/friedberg/veranstaltung.php?id=122371
SUMMARY:Kletterwald Schloss Scherneck
DTSTART;TZID=Europe/Berlin:20260807T130000
END:VEVENT

END:VCALENDAR
