BEGIN:VCALENDAR
VERSION:2.0
PRODID:-//hacksw/handcal//NONSGML v1.0//EN
CALSCALE:GREGORIAN
BEGIN:VTIMEZONE
TZID:Europe/Berlin
X-LIC-LOCATION:Europe/Berlin
BEGIN:DAYLIGHT
TZOFFSETFROM:+0100
TZOFFSETTO:+0200
TZNAME:CEST
DTSTART:19700329T020000
RRULE:FREQ=YEARLY;BYDAY=-1SU;BYMONTH=3
END:DAYLIGHT
BEGIN:STANDARD
TZOFFSETFROM:+0200
TZOFFSETTO:+0100
TZNAME:CET
DTSTART:19701025T030000
RRULE:FREQ=YEARLY;BYDAY=-1SU;BYMONTH=10
END:STANDARD
END:VTIMEZONE
BEGIN:VEVENT
DTEND;TZID=Europe/Berlin:20260817T120000
UID:69e7b071b13fc
DTSTAMP:20260421T191425
LOCATION:Geltendorfer Straße 13\, Nähe Grundschule Süd
DESCRIPTION:Auch für die kleinen ist Filzen eine handwerkliche Betätigung\, die Spaß macht und zu einem Ergebnis führt\, mit dem ma was anfangen kann. Wir gestalten Bilder\, Spielflächen\, Spielschnüre\, einfachen Schmuck\, kleine Taschen - je nach Alter und Ausdauer.\r\n\r\nBitte mitbringen:\r\nHandtuch\, Gummischürze und Plastiktüte (für die fertigen Kunstwerke und das nasse Handtuch)\r\n\r\n
URL;VALUE=URI:https://www.unser-ferienprogramm.de/friedberg/veranstaltung.php?id=120530
SUMMARY:Filzen
DTSTART;TZID=Europe/Berlin:20260817T100000
END:VEVENT

END:VCALENDAR
