BEGIN:VCALENDAR
VERSION:2.0
PRODID:-//hacksw/handcal//NONSGML v1.0//EN
CALSCALE:GREGORIAN
BEGIN:VTIMEZONE
TZID:Europe/Berlin
X-LIC-LOCATION:Europe/Berlin
BEGIN:DAYLIGHT
TZOFFSETFROM:+0100
TZOFFSETTO:+0200
TZNAME:CEST
DTSTART:19700329T020000
RRULE:FREQ=YEARLY;BYDAY=-1SU;BYMONTH=3
END:DAYLIGHT
BEGIN:STANDARD
TZOFFSETFROM:+0200
TZOFFSETTO:+0100
TZNAME:CET
DTSTART:19701025T030000
RRULE:FREQ=YEARLY;BYDAY=-1SU;BYMONTH=10
END:STANDARD
END:VTIMEZONE
BEGIN:VEVENT
DTEND;TZID=Europe/Berlin:20260807T123000
UID:69e7b0e36296b
DTSTAMP:20260421T191619
LOCATION:Landkreisstadion\, Rothenbergstraße 86316 Friedberg
DESCRIPTION:Hast du Interesse an Bogenschießen - dann schau vorbei!\r\n\r\nBitte mitbringen: Stabile Schuhe und enganliegende Kleidung\, Schmuck und Piercing wegen Verletzungsgefahr zu Hause lassen.
URL;VALUE=URI:https://www.unser-ferienprogramm.de/friedberg/veranstaltung.php?id=120316
SUMMARY:Pfeil und Bogenschießen/ Bogensport
DTSTART;TZID=Europe/Berlin:20260807T100000
END:VEVENT

END:VCALENDAR
