BEGIN:VCALENDAR
VERSION:2.0
PRODID:-//hacksw/handcal//NONSGML v1.0//EN
CALSCALE:GREGORIAN
BEGIN:VTIMEZONE
TZID:Europe/Berlin
X-LIC-LOCATION:Europe/Berlin
BEGIN:DAYLIGHT
TZOFFSETFROM:+0100
TZOFFSETTO:+0200
TZNAME:CEST
DTSTART:19700329T020000
RRULE:FREQ=YEARLY;BYDAY=-1SU;BYMONTH=3
END:DAYLIGHT
BEGIN:STANDARD
TZOFFSETFROM:+0200
TZOFFSETTO:+0100
TZNAME:CET
DTSTART:19701025T030000
RRULE:FREQ=YEARLY;BYDAY=-1SU;BYMONTH=10
END:STANDARD
END:VTIMEZONE
BEGIN:VEVENT
DTEND;TZID=Europe/Berlin:20260817T150000
UID:69e7b041a11ff
DTSTAMP:20260421T191337
LOCATION:Mittelschule Friedberg
DESCRIPTION:Zaubern können\, wer will das nicht? In der Zauberschule von Fred Bossie liegt Magie in der Luft! Die Zauberlehrlinge lernen\, wie sie mehr Anerkennung und Bewunderung gewinnen\, und zwar durch eigene Leistung - weil sie etwas beherrschen\, das nicht jeder kann! Durch das "Zaubern Lernen" wird die Kreativität der Kinder gefördert sowie das Selbstbewusstsein auf eine positive Art gesteigert. \r\n\r\nLiebe Eltern\, für Sie zum Nachdenken! Das Beschäftigen mit der Zauberkunst hat auch im Zeitalter moderner Technik\, der Allmacht des Computers nichts an Faszination verloren. ZAUBERN erfüllt in besonderem Maße Eigenschaften und pädagogische Ansprüche\, die leider im Zeitalter elektronischer Spielzeuge immer mehr verdrängt werden. ZAUBERN fördert – Fantasie und Kreativität – freies Sprechen – Selbstsicherheit – Handfertigkeiten – Konzentration – vermittelt Erfolgserlebnisse. Wusste doch schon der große Dichterfürst Johann Wolfgang von Goethe über die Wichtigkeit des Zauberns zu sagen: „Es ist ein herrliches Mittel zur Übung in freier Rede und Erlangung einiger körperlicher und geistiger Gewandtheit.“ Er schenkte seinen Enkeln 1831 schon einen Zauberkasten. \r\n\r\nDie benötigten im Kurs enthaltenen Gegenstände\, die auch im Nachhinein immer wieder leicht zu beschaffen sind\, etwas Geduld und Übung - und schon kann es losgehen. Pfiffige Tricks mit Alltagsgegenständen\, manche einfach\, manche anspruchsvoll\, lassen die jungen Zauberkünstler*innen ganz groß rauskommen. Mit der Schritt-für-Schritt-Methode und anschaulicher Unterweisung sowie einer umfangreichen Zauberbroschüre sind die Zaubertricks eingängig und leicht nachvollziehbar. \r\n\r\nEine halbe Stunde vor Ende öffnen wir die Zauberschule für Mama\, Papa\, Oma\, Opa\, Geschwister und Interessierte - schließlich brauchen die Zauberkünstler für die abschließende "Zaubershow" auch Publikum. Ein Zauberprogramm\, das die Kinder in den Mittelpunkt stellt und bei dem auch die "großen Kinder" noch staunen können. Zu guter Letzt gibt es das Zauberdiplom.\r\n\r\n
URL;VALUE=URI:https://www.unser-ferienprogramm.de/friedberg/veranstaltung.php?id=104577
SUMMARY:Zauberschule "Zaubern lernen mit Diplom"
DTSTART;TZID=Europe/Berlin:20260817T100000
END:VEVENT

END:VCALENDAR
